BEGIN:VCALENDAR
VERSION:2.0
PRODID:-//AusschreibungsRadar//Timeline//DE
CALSCALE:GREGORIAN
METHOD:PUBLISH
X-WR-CALNAME:Projekt Bereitstellung & Service/ Support einer digitalen Lehr- / Le
X-WR-TIMEZONE:Europe/Berlin
BEGIN:VEVENT
UID:b6115e83c8c03dd3@ausschreibungsradar.com
DTSTAMP:20260424T090730Z
DTSTART;VALUE=DATE:20241128
DTEND;VALUE=DATE:20241128
SUMMARY:Ausschreibung — Bereitstellung & Service/ Support einer digitalen Lehr- / Le
DESCRIPTION:Phase: Ausschreibung | Beschreibung: Offizielle Ausschreibung mit Bieterfrist. | Link: https://ausschreibungsradar.com/ausschreibung/23076390/
URL:https://ausschreibungsradar.com/ausschreibung/23076390/
END:VEVENT
BEGIN:VEVENT
UID:caeef8ecffb2db9b@ausschreibungsradar.com
DTSTAMP:20260424T090730Z
DTSTART;VALUE=DATE:20241128
DTEND;VALUE=DATE:20241128
SUMMARY:Ausschreibung — Bereitstellung & Service/ Support einer digitalen Lehr- / Le
DESCRIPTION:Phase: Ausschreibung | Beschreibung: Offizielle Ausschreibung mit Bieterfrist. | Link: https://ausschreibungsradar.com/ausschreibung/23076394/
URL:https://ausschreibungsradar.com/ausschreibung/23076394/
END:VEVENT
BEGIN:VEVENT
UID:b66826fda91f6b72@ausschreibungsradar.com
DTSTAMP:20260424T090730Z
DTSTART;VALUE=DATE:20241128
DTEND;VALUE=DATE:20241128
SUMMARY:Ausschreibung — Bereitstellung & Service/ Support einer digitalen Lehr- / Le
DESCRIPTION:Phase: Ausschreibung | Beschreibung: Offizielle Ausschreibung mit Bieterfrist. | Link: https://ausschreibungsradar.com/ausschreibung/23076386/
URL:https://ausschreibungsradar.com/ausschreibung/23076386/
END:VEVENT
BEGIN:VEVENT
UID:6f805dac5e403650@ausschreibungsradar.com
DTSTAMP:20260424T090730Z
DTSTART;VALUE=DATE:20241128
DTEND;VALUE=DATE:20241128
SUMMARY:Ausschreibung — Bereitstellung & Service/ Support einer digitalen Lehr- / Le
DESCRIPTION:Phase: Ausschreibung | Beschreibung: Offizielle Ausschreibung mit Bieterfrist. | Link: https://ausschreibungsradar.com/ausschreibung/23076382/
URL:https://ausschreibungsradar.com/ausschreibung/23076382/
END:VEVENT
END:VCALENDAR
