BEGIN:VCALENDAR
VERSION:2.0
PRODID:-//AusschreibungsRadar//Timeline//DE
CALSCALE:GREGORIAN
METHOD:PUBLISH
X-WR-CALNAME:Projekt Sanierung Altes Amtsgericht, Los 4 - Bodenbelagsarbeiten
X-WR-TIMEZONE:Europe/Berlin
BEGIN:VEVENT
UID:0b7e9870fc8bc73b@ausschreibungsradar.com
DTSTAMP:20260425T223216Z
DTSTART;VALUE=DATE:20241209
DTEND;VALUE=DATE:20241209
SUMMARY:Ausschreibung — Sanierung Altes Amtsgericht\, Los 4 - Bodenbelagsarbeiten
DESCRIPTION:Phase: Ausschreibung | Beschreibung: Offizielle Ausschreibung mit Bieterfrist. | Link: https://ausschreibungsradar.com/ausschreibung/23124348/
URL:https://ausschreibungsradar.com/ausschreibung/23124348/
END:VEVENT
BEGIN:VEVENT
UID:f5a4ceeb6186679f@ausschreibungsradar.com
DTSTAMP:20260425T223216Z
DTSTART;VALUE=DATE:20241209
DTEND;VALUE=DATE:20241209
SUMMARY:Ausschreibung — Sanierung Altes Amtsgericht\, Los 4 - Bodenbelagsarbeiten
DESCRIPTION:Phase: Ausschreibung | Beschreibung: Offizielle Ausschreibung mit Bieterfrist. | Link: https://ausschreibungsradar.com/ausschreibung/23124356/
URL:https://ausschreibungsradar.com/ausschreibung/23124356/
END:VEVENT
END:VCALENDAR
