BEGIN:VCALENDAR
VERSION:2.0
PRODID:-//AusschreibungsRadar//Timeline//DE
CALSCALE:GREGORIAN
METHOD:PUBLISH
X-WR-CALNAME:Projekt Sanierung Altes Amtsgericht, Los 5 - Trockenbauarbeiten
X-WR-TIMEZONE:Europe/Berlin
BEGIN:VEVENT
UID:6cd7832026d7c2e0@ausschreibungsradar.com
DTSTAMP:20260425T223225Z
DTSTART;VALUE=DATE:20241209
DTEND;VALUE=DATE:20241209
SUMMARY:Ausschreibung — Sanierung Altes Amtsgericht\, Los 5 - Trockenbauarbeiten
DESCRIPTION:Phase: Ausschreibung | Beschreibung: Offizielle Ausschreibung mit Bieterfrist. | Link: https://ausschreibungsradar.com/ausschreibung/23124352/
URL:https://ausschreibungsradar.com/ausschreibung/23124352/
END:VEVENT
BEGIN:VEVENT
UID:f5a4ceeb6186679f@ausschreibungsradar.com
DTSTAMP:20260425T223225Z
DTSTART;VALUE=DATE:20241209
DTEND;VALUE=DATE:20241209
SUMMARY:Ausschreibung — Sanierung Altes Amtsgericht\, Los 5 - Trockenbauarbeiten
DESCRIPTION:Phase: Ausschreibung | Beschreibung: Offizielle Ausschreibung mit Bieterfrist. | Link: https://ausschreibungsradar.com/ausschreibung/23124356/
URL:https://ausschreibungsradar.com/ausschreibung/23124356/
END:VEVENT
END:VCALENDAR
