BEGIN:VCALENDAR
VERSION:2.0
PRODID:-//AusschreibungsRadar//Timeline//DE
CALSCALE:GREGORIAN
METHOD:PUBLISH
X-WR-CALNAME:Projekt Sanierung Altes Amtsgericht, Los 8 - Sanitärtrennwände
X-WR-TIMEZONE:Europe/Berlin
BEGIN:VEVENT
UID:9f749aa2d33a08dc@ausschreibungsradar.com
DTSTAMP:20260425T235559Z
DTSTART;VALUE=DATE:20241209
DTEND;VALUE=DATE:20241209
SUMMARY:Ausschreibung — Sanierung Altes Amtsgericht\, Los 8 - Sanitärtrennwände
DESCRIPTION:Phase: Ausschreibung | Beschreibung: Offizielle Ausschreibung mit Bieterfrist. | Link: https://ausschreibungsradar.com/ausschreibung/23124368/
URL:https://ausschreibungsradar.com/ausschreibung/23124368/
END:VEVENT
BEGIN:VEVENT
UID:9eb2151a49b9ba5b@ausschreibungsradar.com
DTSTAMP:20260425T235559Z
DTSTART;VALUE=DATE:20241209
DTEND;VALUE=DATE:20241209
SUMMARY:Ausschreibung — Sanierung Altes Amtsgericht\, Los 8 - Sanitärtrennwände
DESCRIPTION:Phase: Ausschreibung | Beschreibung: Offizielle Ausschreibung mit Bieterfrist. | Link: https://ausschreibungsradar.com/ausschreibung/23124384/
URL:https://ausschreibungsradar.com/ausschreibung/23124384/
END:VEVENT
END:VCALENDAR
