BEGIN:VCALENDAR
VERSION:2.0
PRODID:-//AusschreibungsRadar//Timeline//DE
CALSCALE:GREGORIAN
METHOD:PUBLISH
X-WR-CALNAME:Projekt Umbau und Erweiterung Bankfiliale zu Feuerwehr Seefeld
X-WR-TIMEZONE:Europe/Berlin
BEGIN:VEVENT
UID:5f91dc4609967b27@ausschreibungsradar.com
DTSTAMP:20260424T062155Z
DTSTART;VALUE=DATE:20241210
DTEND;VALUE=DATE:20241210
SUMMARY:Ausschreibung — Umbau und Erweiterung Bankfiliale zu Feuerwehr Seefeld
DESCRIPTION:Phase: Ausschreibung | Beschreibung: Offizielle Ausschreibung mit Bieterfrist. | Link: https://ausschreibungsradar.com/ausschreibung/23126006/
URL:https://ausschreibungsradar.com/ausschreibung/23126006/
END:VEVENT
BEGIN:VEVENT
UID:5d3576d2506ac320@ausschreibungsradar.com
DTSTAMP:20260424T062155Z
DTSTART;VALUE=DATE:20241210
DTEND;VALUE=DATE:20241210
SUMMARY:Ausschreibung — Umbau und Erweiterung Bankfiliale zu Feuerwehr Seefeld
DESCRIPTION:Phase: Ausschreibung | Beschreibung: Offizielle Ausschreibung mit Bieterfrist. | Link: https://ausschreibungsradar.com/ausschreibung/23126054/
URL:https://ausschreibungsradar.com/ausschreibung/23126054/
END:VEVENT
BEGIN:VEVENT
UID:b78ebaea8ea5453d@ausschreibungsradar.com
DTSTAMP:20260424T062155Z
DTSTART;VALUE=DATE:20241210
DTEND;VALUE=DATE:20241210
SUMMARY:Ausschreibung — Umbau und Erweiterung Bankfiliale zu Feuerwehr Seefeld
DESCRIPTION:Phase: Ausschreibung | Beschreibung: Offizielle Ausschreibung mit Bieterfrist. | Link: https://ausschreibungsradar.com/ausschreibung/23126022/
URL:https://ausschreibungsradar.com/ausschreibung/23126022/
END:VEVENT
BEGIN:VEVENT
UID:c830b4d520aa9e9c@ausschreibungsradar.com
DTSTAMP:20260424T062155Z
DTSTART;VALUE=DATE:20241210
DTEND;VALUE=DATE:20241210
SUMMARY:Ausschreibung — Umbau und Erweiterung Bankfiliale zu Feuerwehr Seefeld
DESCRIPTION:Phase: Ausschreibung | Beschreibung: Offizielle Ausschreibung mit Bieterfrist. | Link: https://ausschreibungsradar.com/ausschreibung/23125998/
URL:https://ausschreibungsradar.com/ausschreibung/23125998/
END:VEVENT
END:VCALENDAR
