BEGIN:VCALENDAR
VERSION:2.0
PRODID:-//AusschreibungsRadar//Timeline//DE
CALSCALE:GREGORIAN
METHOD:PUBLISH
X-WR-CALNAME:Projekt Rahmenvertrag für externe Datenschutz-Dienstleistungen
X-WR-TIMEZONE:Europe/Berlin
BEGIN:VEVENT
UID:19d0ad27e90f624a@ausschreibungsradar.com
DTSTAMP:20260424T094720Z
DTSTART;VALUE=DATE:20241202
DTEND;VALUE=DATE:20241202
SUMMARY:Ausschreibung — Rahmenvertrag für externe Datenschutz-Dienstleistungen
DESCRIPTION:Phase: Ausschreibung | Beschreibung: Offizielle Ausschreibung mit Bieterfrist. | Link: https://ausschreibungsradar.com/ausschreibung/23089074/
URL:https://ausschreibungsradar.com/ausschreibung/23089074/
END:VEVENT
BEGIN:VEVENT
UID:d23e5371763cd664@ausschreibungsradar.com
DTSTAMP:20260424T094720Z
DTSTART;VALUE=DATE:20241218
DTEND;VALUE=DATE:20241218
SUMMARY:Ausschreibung — Rahmenvertrag für externe Datenschutz-Dienstleistungen
DESCRIPTION:Phase: Ausschreibung | Beschreibung: Offizielle Ausschreibung mit Bieterfrist. | Link: https://ausschreibungsradar.com/ausschreibung/23173552/
URL:https://ausschreibungsradar.com/ausschreibung/23173552/
END:VEVENT
END:VCALENDAR
