BEGIN:VCALENDAR
VERSION:2.0
PRODID:-//AusschreibungsRadar//Timeline//DE
CALSCALE:GREGORIAN
METHOD:PUBLISH
X-WR-CALNAME:Projekt Baumpflege an Kreisstraßen im Landkreis OPR - 3 Lose
X-WR-TIMEZONE:Europe/Berlin
BEGIN:VEVENT
UID:5f2599f91efe0714@ausschreibungsradar.com
DTSTAMP:20260424T203249Z
DTSTART;VALUE=DATE:20250121
DTEND;VALUE=DATE:20250121
SUMMARY:Ausschreibung — Baumpflege an Kreisstraßen im Landkreis OPR - 3 Lose
DESCRIPTION:Phase: Ausschreibung | Beschreibung: Offizielle Ausschreibung mit Bieterfrist. | Link: https://ausschreibungsradar.com/ausschreibung/23293990/
URL:https://ausschreibungsradar.com/ausschreibung/23293990/
END:VEVENT
BEGIN:VEVENT
UID:c90c9a81c5cfb931@ausschreibungsradar.com
DTSTAMP:20260424T203249Z
DTSTART;VALUE=DATE:20250128
DTEND;VALUE=DATE:20250128
SUMMARY:Ausschreibung — Baumpflege an Kreisstraßen im Landkreis OPR - 3 Lose
DESCRIPTION:Phase: Ausschreibung | Beschreibung: Offizielle Ausschreibung mit Bieterfrist. | Link: https://ausschreibungsradar.com/ausschreibung/23330044/
URL:https://ausschreibungsradar.com/ausschreibung/23330044/
END:VEVENT
END:VCALENDAR
