BEGIN:VCALENDAR
VERSION:2.0
PRODID:-//AusschreibungsRadar//Timeline//DE
CALSCALE:GREGORIAN
METHOD:PUBLISH
X-WR-CALNAME:Projekt Astrid-Lindgren-Grundschule, Heidenau - Los 03.2 - Elektro
X-WR-TIMEZONE:Europe/Berlin
BEGIN:VEVENT
UID:0b1d9511e7d4972e@ausschreibungsradar.com
DTSTAMP:20260425T171339Z
DTSTART;VALUE=DATE:20250310
DTEND;VALUE=DATE:20250310
SUMMARY:Ausschreibung — Astrid-Lindgren-Grundschule\, Heidenau - Los 03.2 - Elektro
DESCRIPTION:Phase: Ausschreibung | Beschreibung: Offizielle Ausschreibung mit Bieterfrist. | Link: https://ausschreibungsradar.com/ausschreibung/23530416/
URL:https://ausschreibungsradar.com/ausschreibung/23530416/
END:VEVENT
BEGIN:VEVENT
UID:e9d885b08f79f130@ausschreibungsradar.com
DTSTAMP:20260425T171339Z
DTSTART;VALUE=DATE:20250310
DTEND;VALUE=DATE:20250310
SUMMARY:Ausschreibung — Astrid-Lindgren-Grundschule\, Heidenau - Los 03.2 - Elektro
DESCRIPTION:Phase: Ausschreibung | Beschreibung: Offizielle Ausschreibung mit Bieterfrist. | Link: https://ausschreibungsradar.com/ausschreibung/23530464/
URL:https://ausschreibungsradar.com/ausschreibung/23530464/
END:VEVENT
END:VCALENDAR
