BEGIN:VCALENDAR
VERSION:2.0
PRODID:-//AusschreibungsRadar//Timeline//DE
CALSCALE:GREGORIAN
METHOD:PUBLISH
X-WR-CALNAME:Projekt Neubau Feuerwehrhaus Kirchtimke Trockenbau
X-WR-TIMEZONE:Europe/Berlin
BEGIN:VEVENT
UID:546a99c7bfe10b2a@ausschreibungsradar.com
DTSTAMP:20260424T032405Z
DTSTART;VALUE=DATE:20250304
DTEND;VALUE=DATE:20250304
SUMMARY:Ausschreibung — Neubau Feuerwehrhaus Kirchtimke Trockenbau
DESCRIPTION:Phase: Ausschreibung | Beschreibung: Offizielle Ausschreibung mit Bieterfrist. | Link: https://ausschreibungsradar.com/ausschreibung/23505110/
URL:https://ausschreibungsradar.com/ausschreibung/23505110/
END:VEVENT
BEGIN:VEVENT
UID:ab7081ed7c627a57@ausschreibungsradar.com
DTSTAMP:20260424T032405Z
DTSTART;VALUE=DATE:20250305
DTEND;VALUE=DATE:20250305
SUMMARY:Ausschreibung — Neubau Feuerwehrhaus Kirchtimke Trockenbau
DESCRIPTION:Phase: Ausschreibung | Beschreibung: Offizielle Ausschreibung mit Bieterfrist. | Link: https://ausschreibungsradar.com/ausschreibung/23513938/
URL:https://ausschreibungsradar.com/ausschreibung/23513938/
END:VEVENT
BEGIN:VEVENT
UID:b6470c02e36a2b9f@ausschreibungsradar.com
DTSTAMP:20260424T032405Z
DTSTART;VALUE=DATE:20250306
DTEND;VALUE=DATE:20250306
SUMMARY:Ausschreibung — Neubau Feuerwehrhaus Kirchtimke Trockenbau
DESCRIPTION:Phase: Ausschreibung | Beschreibung: Offizielle Ausschreibung mit Bieterfrist. | Link: https://ausschreibungsradar.com/ausschreibung/23518838/
URL:https://ausschreibungsradar.com/ausschreibung/23518838/
END:VEVENT
BEGIN:VEVENT
UID:b18d42297117bba4@ausschreibungsradar.com
DTSTAMP:20260424T032405Z
DTSTART;VALUE=DATE:20250306
DTEND;VALUE=DATE:20250306
SUMMARY:Ausschreibung — Neubau Feuerwehrhaus Kirchtimke Trockenbau
DESCRIPTION:Phase: Ausschreibung | Beschreibung: Offizielle Ausschreibung mit Bieterfrist. | Link: https://ausschreibungsradar.com/ausschreibung/23518734/
URL:https://ausschreibungsradar.com/ausschreibung/23518734/
END:VEVENT
BEGIN:VEVENT
UID:dcea644d51885193@ausschreibungsradar.com
DTSTAMP:20260424T032405Z
DTSTART;VALUE=DATE:20250314
DTEND;VALUE=DATE:20250314
SUMMARY:Ausschreibung — Neubau Feuerwehrhaus Kirchtimke Trockenbau
DESCRIPTION:Phase: Ausschreibung | Beschreibung: Offizielle Ausschreibung mit Bieterfrist. | Link: https://ausschreibungsradar.com/ausschreibung/23563234/
URL:https://ausschreibungsradar.com/ausschreibung/23563234/
END:VEVENT
END:VCALENDAR
