BEGIN:VCALENDAR
VERSION:2.0
PRODID:-//AusschreibungsRadar//Timeline//DE
CALSCALE:GREGORIAN
METHOD:PUBLISH
X-WR-CALNAME:Projekt Neustadt a.d.Donau : Erstellung einer kommunalen Wärmeplanun
X-WR-TIMEZONE:Europe/Berlin
BEGIN:VEVENT
UID:5c43620aa817c023@ausschreibungsradar.com
DTSTAMP:20260425T155644Z
DTSTART;VALUE=DATE:20250319
DTEND;VALUE=DATE:20250319
SUMMARY:Ausschreibung — Neustadt a.d.Donau : Erstellung einer kommunalen Wärmeplanun
DESCRIPTION:Phase: Ausschreibung | Beschreibung: Offizielle Ausschreibung mit Bieterfrist. | Link: https://ausschreibungsradar.com/ausschreibung/23584792/
URL:https://ausschreibungsradar.com/ausschreibung/23584792/
END:VEVENT
BEGIN:VEVENT
UID:17490e6369b34a52@ausschreibungsradar.com
DTSTAMP:20260425T155644Z
DTSTART;VALUE=DATE:20250414
DTEND;VALUE=DATE:20250414
SUMMARY:Zuschlag — Neustadt a.d.Donau : Erstellung einer kommunalen Wärmeplanun
DESCRIPTION:Phase: Zuschlag | Beschreibung: Vergabeergebnis — Auftrag wurde erteilt oder Verfahren beendet. | Link: https://ausschreibungsradar.com/ausschreibung/23715346/
URL:https://ausschreibungsradar.com/ausschreibung/23715346/
END:VEVENT
END:VCALENDAR
