BEGIN:VCALENDAR
VERSION:2.0
PRODID:-//AusschreibungsRadar//Timeline//DE
CALSCALE:GREGORIAN
METHOD:PUBLISH
X-WR-CALNAME:Projekt Schadensbeseitigung Starkregenereignis 2021- M 0039 Ortsstra
X-WR-TIMEZONE:Europe/Berlin
BEGIN:VEVENT
UID:e0fa79cb3eb071e7@ausschreibungsradar.com
DTSTAMP:20260425T193859Z
DTSTART;VALUE=DATE:20250403
DTEND;VALUE=DATE:20250403
SUMMARY:Ausschreibung — Schadensbeseitigung Starkregenereignis 2021- M 0039 Ortsstra
DESCRIPTION:Phase: Ausschreibung | Beschreibung: Offizielle Ausschreibung mit Bieterfrist. | Link: https://ausschreibungsradar.com/ausschreibung/23657970/
URL:https://ausschreibungsradar.com/ausschreibung/23657970/
END:VEVENT
BEGIN:VEVENT
UID:c511094f3b55a70f@ausschreibungsradar.com
DTSTAMP:20260425T193859Z
DTSTART;VALUE=DATE:20250403
DTEND;VALUE=DATE:20250403
SUMMARY:Ausschreibung — Schadensbeseitigung Starkregenereignis 2021- M 0039 Ortsstra
DESCRIPTION:Phase: Ausschreibung | Beschreibung: Offizielle Ausschreibung mit Bieterfrist. | Link: https://ausschreibungsradar.com/ausschreibung/23657818/
URL:https://ausschreibungsradar.com/ausschreibung/23657818/
END:VEVENT
END:VCALENDAR
