BEGIN:VCALENDAR
VERSION:2.0
PRODID:-//AusschreibungsRadar//Timeline//DE
CALSCALE:GREGORIAN
METHOD:PUBLISH
X-WR-CALNAME:Projekt Umbau und Erweiterung Kindergarten Neugaude: Heizungsarbeite
X-WR-TIMEZONE:Europe/Berlin
BEGIN:VEVENT
UID:d77a86f6b22d69cb@ausschreibungsradar.com
DTSTAMP:20260424T074510Z
DTSTART;VALUE=DATE:20250404
DTEND;VALUE=DATE:20250404
SUMMARY:Ausschreibung — Umbau und Erweiterung Kindergarten Neugaude: Heizungsarbeite
DESCRIPTION:Phase: Ausschreibung | Beschreibung: Offizielle Ausschreibung mit Bieterfrist. | Link: https://ausschreibungsradar.com/ausschreibung/23666208/
URL:https://ausschreibungsradar.com/ausschreibung/23666208/
END:VEVENT
BEGIN:VEVENT
UID:b0dd62a6fd1ccfcc@ausschreibungsradar.com
DTSTAMP:20260424T074510Z
DTSTART;VALUE=DATE:20250404
DTEND;VALUE=DATE:20250404
SUMMARY:Ausschreibung — Umbau und Erweiterung Kindergarten Neugaude: Heizungsarbeite
DESCRIPTION:Phase: Ausschreibung | Beschreibung: Offizielle Ausschreibung mit Bieterfrist. | Link: https://ausschreibungsradar.com/ausschreibung/23666204/
URL:https://ausschreibungsradar.com/ausschreibung/23666204/
END:VEVENT
BEGIN:VEVENT
UID:b345203681406ce7@ausschreibungsradar.com
DTSTAMP:20260424T074510Z
DTSTART;VALUE=DATE:20250404
DTEND;VALUE=DATE:20250404
SUMMARY:Ausschreibung — Umbau und Erweiterung Kindergarten Neugaude: Heizungsarbeite
DESCRIPTION:Phase: Ausschreibung | Beschreibung: Offizielle Ausschreibung mit Bieterfrist. | Link: https://ausschreibungsradar.com/ausschreibung/23666188/
URL:https://ausschreibungsradar.com/ausschreibung/23666188/
END:VEVENT
BEGIN:VEVENT
UID:c9d187dff2902407@ausschreibungsradar.com
DTSTAMP:20260424T074510Z
DTSTART;VALUE=DATE:20250404
DTEND;VALUE=DATE:20250404
SUMMARY:Ausschreibung — Umbau und Erweiterung Kindergarten Neugaude: Heizungsarbeite
DESCRIPTION:Phase: Ausschreibung | Beschreibung: Offizielle Ausschreibung mit Bieterfrist. | Link: https://ausschreibungsradar.com/ausschreibung/23666192/
URL:https://ausschreibungsradar.com/ausschreibung/23666192/
END:VEVENT
BEGIN:VEVENT
UID:31a10e660cfed766@ausschreibungsradar.com
DTSTAMP:20260424T074510Z
DTSTART;VALUE=DATE:20250404
DTEND;VALUE=DATE:20250404
SUMMARY:Ausschreibung — Umbau und Erweiterung Kindergarten Neugaude: Heizungsarbeite
DESCRIPTION:Phase: Ausschreibung | Beschreibung: Offizielle Ausschreibung mit Bieterfrist. | Link: https://ausschreibungsradar.com/ausschreibung/23666200/
URL:https://ausschreibungsradar.com/ausschreibung/23666200/
END:VEVENT
BEGIN:VEVENT
UID:284f40cd89a8672d@ausschreibungsradar.com
DTSTAMP:20260424T074510Z
DTSTART;VALUE=DATE:20250404
DTEND;VALUE=DATE:20250404
SUMMARY:Ausschreibung — Umbau und Erweiterung Kindergarten Neugaude: Heizungsarbeite
DESCRIPTION:Phase: Ausschreibung | Beschreibung: Offizielle Ausschreibung mit Bieterfrist. | Link: https://ausschreibungsradar.com/ausschreibung/23666196/
URL:https://ausschreibungsradar.com/ausschreibung/23666196/
END:VEVENT
END:VCALENDAR
