BEGIN:VCALENDAR
VERSION:2.0
PRODID:-//AusschreibungsRadar//Timeline//DE
CALSCALE:GREGORIAN
METHOD:PUBLISH
X-WR-CALNAME:Projekt Werkstattumbau H2-Busse - Los 1 Gaswarnanlage
X-WR-TIMEZONE:Europe/Berlin
BEGIN:VEVENT
UID:c142d42a6bb5d5d0@ausschreibungsradar.com
DTSTAMP:20260425T153952Z
DTSTART;VALUE=DATE:20250407
DTEND;VALUE=DATE:20250407
SUMMARY:Ausschreibung — Werkstattumbau H2-Busse - Los 1 Gaswarnanlage
DESCRIPTION:Phase: Ausschreibung | Beschreibung: Offizielle Ausschreibung mit Bieterfrist. | Link: https://ausschreibungsradar.com/ausschreibung/23674126/
URL:https://ausschreibungsradar.com/ausschreibung/23674126/
END:VEVENT
BEGIN:VEVENT
UID:bb940293fd89e763@ausschreibungsradar.com
DTSTAMP:20260425T153952Z
DTSTART;VALUE=DATE:20250407
DTEND;VALUE=DATE:20250407
SUMMARY:Ausschreibung — Werkstattumbau H2-Busse - Los 1 Gaswarnanlage
DESCRIPTION:Phase: Ausschreibung | Beschreibung: Offizielle Ausschreibung mit Bieterfrist. | Link: https://ausschreibungsradar.com/ausschreibung/23674094/
URL:https://ausschreibungsradar.com/ausschreibung/23674094/
END:VEVENT
END:VCALENDAR
