BEGIN:VCALENDAR
VERSION:2.0
PRODID:-//AusschreibungsRadar//Timeline//DE
CALSCALE:GREGORIAN
METHOD:PUBLISH
X-WR-CALNAME:Projekt Trockenbauarbeiten
X-WR-TIMEZONE:Europe/Berlin
BEGIN:VEVENT
UID:156c0be86fb3ec76@ausschreibungsradar.com
DTSTAMP:20260423T232606Z
DTSTART;VALUE=DATE:20250409
DTEND;VALUE=DATE:20250409
SUMMARY:Ausschreibung — Trockenbauarbeiten
DESCRIPTION:Phase: Ausschreibung | Beschreibung: Offizielle Ausschreibung mit Bieterfrist. | Link: https://ausschreibungsradar.com/ausschreibung/23687462/
URL:https://ausschreibungsradar.com/ausschreibung/23687462/
END:VEVENT
BEGIN:VEVENT
UID:7ebdf4f9ce10959a@ausschreibungsradar.com
DTSTAMP:20260423T232606Z
DTSTART;VALUE=DATE:20250430
DTEND;VALUE=DATE:20250430
SUMMARY:Ausschreibung — Trockenbauarbeiten
DESCRIPTION:Phase: Ausschreibung | Beschreibung: Offizielle Ausschreibung mit Bieterfrist. | Link: https://ausschreibungsradar.com/ausschreibung/23782330/
URL:https://ausschreibungsradar.com/ausschreibung/23782330/
END:VEVENT
END:VCALENDAR
