BEGIN:VCALENDAR
VERSION:2.0
PRODID:-//AusschreibungsRadar//Timeline//DE
CALSCALE:GREGORIAN
METHOD:PUBLISH
X-WR-CALNAME:Projekt Baumpflege an den Kreisstraßen im Landkreis OPR - 3 Lose
X-WR-TIMEZONE:Europe/Berlin
BEGIN:VEVENT
UID:aa8c62b810036e9d@ausschreibungsradar.com
DTSTAMP:20260425T024354Z
DTSTART;VALUE=DATE:20250414
DTEND;VALUE=DATE:20250414
SUMMARY:Zuschlag — Baumpflege an den Kreisstraßen im Landkreis OPR - 3 Lose
DESCRIPTION:Phase: Zuschlag | Beschreibung: Vergabeergebnis — Auftrag wurde erteilt oder Verfahren beendet. | Link: https://ausschreibungsradar.com/ausschreibung/23711740/
URL:https://ausschreibungsradar.com/ausschreibung/23711740/
END:VEVENT
BEGIN:VEVENT
UID:3f52244dfbb7653d@ausschreibungsradar.com
DTSTAMP:20260425T024354Z
DTSTART;VALUE=DATE:20250416
DTEND;VALUE=DATE:20250416
SUMMARY:Ausschreibung — Baumpflege an den Kreisstraßen im Landkreis OPR - 3 Lose
DESCRIPTION:Phase: Ausschreibung | Beschreibung: Offizielle Ausschreibung mit Bieterfrist. | Link: https://ausschreibungsradar.com/ausschreibung/23726470/
URL:https://ausschreibungsradar.com/ausschreibung/23726470/
END:VEVENT
END:VCALENDAR
