BEGIN:VCALENDAR
VERSION:2.0
PRODID:-//AusschreibungsRadar//Timeline//DE
CALSCALE:GREGORIAN
METHOD:PUBLISH
X-WR-CALNAME:Projekt Los 7 - Mauerwerksdiagnostik Sanierung Rathaus Oebisfelde
X-WR-TIMEZONE:Europe/Berlin
BEGIN:VEVENT
UID:36b724536053558d@ausschreibungsradar.com
DTSTAMP:20260425T134659Z
DTSTART;VALUE=DATE:20250425
DTEND;VALUE=DATE:20250425
SUMMARY:Zuschlag — Los 7 - Mauerwerksdiagnostik Sanierung Rathaus Oebisfelde
DESCRIPTION:Phase: Zuschlag | Beschreibung: Vergabeergebnis — Auftrag wurde erteilt oder Verfahren beendet. | Link: https://ausschreibungsradar.com/ausschreibung/48d18b0d-df13-4fc3-8cb5-bb80788157e2/
URL:https://ausschreibungsradar.com/ausschreibung/48d18b0d-df13-4fc3-8cb5-bb80788157e2/
END:VEVENT
BEGIN:VEVENT
UID:688502f4f961fe8b@ausschreibungsradar.com
DTSTAMP:20260425T134659Z
DTSTART;VALUE=DATE:20250516
DTEND;VALUE=DATE:20250516
SUMMARY:Ausschreibung — Los 7 - Mauerwerksdiagnostik Sanierung Rathaus Oebisfelde
DESCRIPTION:Phase: Ausschreibung | Beschreibung: Offizielle Ausschreibung mit Bieterfrist. | Link: https://ausschreibungsradar.com/ausschreibung/23854966/
URL:https://ausschreibungsradar.com/ausschreibung/23854966/
END:VEVENT
BEGIN:VEVENT
UID:a9ba02c55c33a0ac@ausschreibungsradar.com
DTSTAMP:20260425T134659Z
DTSTART;VALUE=DATE:20250602
DTEND;VALUE=DATE:20250602
SUMMARY:Ausschreibung — Los 7 - Mauerwerksdiagnostik Sanierung Rathaus Oebisfelde
DESCRIPTION:Phase: Ausschreibung | Beschreibung: Offizielle Ausschreibung mit Bieterfrist. | Link: https://ausschreibungsradar.com/ausschreibung/23926158/
URL:https://ausschreibungsradar.com/ausschreibung/23926158/
END:VEVENT
END:VCALENDAR
