BEGIN:VCALENDAR
VERSION:2.0
PRODID:-//AusschreibungsRadar//Timeline//DE
CALSCALE:GREGORIAN
METHOD:PUBLISH
X-WR-CALNAME:Projekt Los 8 - Fliesen- u. Plattenarbeiten zum BV: NÄ ehem. Bahnhof
X-WR-TIMEZONE:Europe/Berlin
BEGIN:VEVENT
UID:d3d9838d1067249e@ausschreibungsradar.com
DTSTAMP:20260423T232531Z
DTSTART;VALUE=DATE:20250519
DTEND;VALUE=DATE:20250519
SUMMARY:Ausschreibung — Los 8 - Fliesen- u. Plattenarbeiten zum BV: NÄ ehem. Bahnhof
DESCRIPTION:Phase: Ausschreibung | Beschreibung: Offizielle Ausschreibung mit Bieterfrist. | Link: https://ausschreibungsradar.com/ausschreibung/23862582/
URL:https://ausschreibungsradar.com/ausschreibung/23862582/
END:VEVENT
BEGIN:VEVENT
UID:e33d5d671546d75b@ausschreibungsradar.com
DTSTAMP:20260423T232531Z
DTSTART;VALUE=DATE:20250519
DTEND;VALUE=DATE:20250519
SUMMARY:Ausschreibung — Los 8 - Fliesen- u. Plattenarbeiten zum BV: NÄ ehem. Bahnhof
DESCRIPTION:Phase: Ausschreibung | Beschreibung: Offizielle Ausschreibung mit Bieterfrist. | Link: https://ausschreibungsradar.com/ausschreibung/23862606/
URL:https://ausschreibungsradar.com/ausschreibung/23862606/
END:VEVENT
BEGIN:VEVENT
UID:4281ae6d6e694b9a@ausschreibungsradar.com
DTSTAMP:20260423T232531Z
DTSTART;VALUE=DATE:20250519
DTEND;VALUE=DATE:20250519
SUMMARY:Ausschreibung — Los 8 - Fliesen- u. Plattenarbeiten zum BV: NÄ ehem. Bahnhof
DESCRIPTION:Phase: Ausschreibung | Beschreibung: Offizielle Ausschreibung mit Bieterfrist. | Link: https://ausschreibungsradar.com/ausschreibung/23862574/
URL:https://ausschreibungsradar.com/ausschreibung/23862574/
END:VEVENT
END:VCALENDAR
