BEGIN:VCALENDAR
VERSION:2.0
PRODID:-//AusschreibungsRadar//Timeline//DE
CALSCALE:GREGORIAN
METHOD:PUBLISH
X-WR-CALNAME:Projekt Los 11 - Malerarbeiten zum BV: NÄ ehem. Bahnhofsgebäude Beil
X-WR-TIMEZONE:Europe/Berlin
BEGIN:VEVENT
UID:e33d5d671546d75b@ausschreibungsradar.com
DTSTAMP:20260424T020537Z
DTSTART;VALUE=DATE:20250519
DTEND;VALUE=DATE:20250519
SUMMARY:Ausschreibung — Los 11 - Malerarbeiten zum BV: NÄ ehem. Bahnhofsgebäude Beil
DESCRIPTION:Phase: Ausschreibung | Beschreibung: Offizielle Ausschreibung mit Bieterfrist. | Link: https://ausschreibungsradar.com/ausschreibung/23862606/
URL:https://ausschreibungsradar.com/ausschreibung/23862606/
END:VEVENT
BEGIN:VEVENT
UID:4281ae6d6e694b9a@ausschreibungsradar.com
DTSTAMP:20260424T020537Z
DTSTART;VALUE=DATE:20250519
DTEND;VALUE=DATE:20250519
SUMMARY:Ausschreibung — Los 11 - Malerarbeiten zum BV: NÄ ehem. Bahnhofsgebäude Beil
DESCRIPTION:Phase: Ausschreibung | Beschreibung: Offizielle Ausschreibung mit Bieterfrist. | Link: https://ausschreibungsradar.com/ausschreibung/23862574/
URL:https://ausschreibungsradar.com/ausschreibung/23862574/
END:VEVENT
BEGIN:VEVENT
UID:79ed57354fdf1c5a@ausschreibungsradar.com
DTSTAMP:20260424T020537Z
DTSTART;VALUE=DATE:20250519
DTEND;VALUE=DATE:20250519
SUMMARY:Ausschreibung — Los 11 - Malerarbeiten zum BV: NÄ ehem. Bahnhofsgebäude Beil
DESCRIPTION:Phase: Ausschreibung | Beschreibung: Offizielle Ausschreibung mit Bieterfrist. | Link: https://ausschreibungsradar.com/ausschreibung/23862598/
URL:https://ausschreibungsradar.com/ausschreibung/23862598/
END:VEVENT
BEGIN:VEVENT
UID:30f7ec400f022875@ausschreibungsradar.com
DTSTAMP:20260424T020537Z
DTSTART;VALUE=DATE:20250519
DTEND;VALUE=DATE:20250519
SUMMARY:Ausschreibung — Los 11 - Malerarbeiten zum BV: NÄ ehem. Bahnhofsgebäude Beil
DESCRIPTION:Phase: Ausschreibung | Beschreibung: Offizielle Ausschreibung mit Bieterfrist. | Link: https://ausschreibungsradar.com/ausschreibung/23862566/
URL:https://ausschreibungsradar.com/ausschreibung/23862566/
END:VEVENT
BEGIN:VEVENT
UID:d3d9838d1067249e@ausschreibungsradar.com
DTSTAMP:20260424T020537Z
DTSTART;VALUE=DATE:20250519
DTEND;VALUE=DATE:20250519
SUMMARY:Ausschreibung — Los 11 - Malerarbeiten zum BV: NÄ ehem. Bahnhofsgebäude Beil
DESCRIPTION:Phase: Ausschreibung | Beschreibung: Offizielle Ausschreibung mit Bieterfrist. | Link: https://ausschreibungsradar.com/ausschreibung/23862582/
URL:https://ausschreibungsradar.com/ausschreibung/23862582/
END:VEVENT
END:VCALENDAR
