BEGIN:VCALENDAR
VERSION:2.0
PRODID:-//AusschreibungsRadar//Timeline//DE
CALSCALE:GREGORIAN
METHOD:PUBLISH
X-WR-CALNAME:Projekt Planungsleistungen Schulerweiterungsbau Grundschule Rauen
X-WR-TIMEZONE:Europe/Berlin
BEGIN:VEVENT
UID:e00bb996039e8a4b@ausschreibungsradar.com
DTSTAMP:20260425T155022Z
DTSTART;VALUE=DATE:20250522
DTEND;VALUE=DATE:20250522
SUMMARY:Ausschreibung — Planungsleistungen Schulerweiterungsbau Grundschule Rauen
DESCRIPTION:Phase: Ausschreibung | Beschreibung: Offizielle Ausschreibung mit Bieterfrist. | Link: https://ausschreibungsradar.com/ausschreibung/23882214/
URL:https://ausschreibungsradar.com/ausschreibung/23882214/
END:VEVENT
BEGIN:VEVENT
UID:3fcd759b08d0edc8@ausschreibungsradar.com
DTSTAMP:20260425T155022Z
DTSTART;VALUE=DATE:20250616
DTEND;VALUE=DATE:20250616
SUMMARY:Ausschreibung — Planungsleistungen Schulerweiterungsbau Grundschule Rauen
DESCRIPTION:Phase: Ausschreibung | Beschreibung: Offizielle Ausschreibung mit Bieterfrist. | Link: https://ausschreibungsradar.com/ausschreibung/23988176/
URL:https://ausschreibungsradar.com/ausschreibung/23988176/
END:VEVENT
END:VCALENDAR
