BEGIN:VCALENDAR
VERSION:2.0
PRODID:-//AusschreibungsRadar//Timeline//DE
CALSCALE:GREGORIAN
METHOD:PUBLISH
X-WR-CALNAME:Projekt Umbau und Erweiterung Kindergarten Neugaude: Kunststofffenst
X-WR-TIMEZONE:Europe/Berlin
BEGIN:VEVENT
UID:d194ce54bfdcc064@ausschreibungsradar.com
DTSTAMP:20260424T104941Z
DTSTART;VALUE=DATE:20250523
DTEND;VALUE=DATE:20250523
SUMMARY:Ausschreibung — Umbau und Erweiterung Kindergarten Neugaude: Kunststofffenst
DESCRIPTION:Phase: Ausschreibung | Beschreibung: Offizielle Ausschreibung mit Bieterfrist. | Link: https://ausschreibungsradar.com/ausschreibung/23890292/
URL:https://ausschreibungsradar.com/ausschreibung/23890292/
END:VEVENT
BEGIN:VEVENT
UID:26e93f49c2e72f71@ausschreibungsradar.com
DTSTAMP:20260424T104941Z
DTSTART;VALUE=DATE:20250523
DTEND;VALUE=DATE:20250523
SUMMARY:Ausschreibung — Umbau und Erweiterung Kindergarten Neugaude: Kunststofffenst
DESCRIPTION:Phase: Ausschreibung | Beschreibung: Offizielle Ausschreibung mit Bieterfrist. | Link: https://ausschreibungsradar.com/ausschreibung/23890280/
URL:https://ausschreibungsradar.com/ausschreibung/23890280/
END:VEVENT
BEGIN:VEVENT
UID:ed728fab07fe0cb1@ausschreibungsradar.com
DTSTAMP:20260424T104941Z
DTSTART;VALUE=DATE:20250523
DTEND;VALUE=DATE:20250523
SUMMARY:Ausschreibung — Umbau und Erweiterung Kindergarten Neugaude: Kunststofffenst
DESCRIPTION:Phase: Ausschreibung | Beschreibung: Offizielle Ausschreibung mit Bieterfrist. | Link: https://ausschreibungsradar.com/ausschreibung/23890236/
URL:https://ausschreibungsradar.com/ausschreibung/23890236/
END:VEVENT
BEGIN:VEVENT
UID:a296d1bf640394e5@ausschreibungsradar.com
DTSTAMP:20260424T104941Z
DTSTART;VALUE=DATE:20250523
DTEND;VALUE=DATE:20250523
SUMMARY:Ausschreibung — Umbau und Erweiterung Kindergarten Neugaude: Kunststofffenst
DESCRIPTION:Phase: Ausschreibung | Beschreibung: Offizielle Ausschreibung mit Bieterfrist. | Link: https://ausschreibungsradar.com/ausschreibung/23890240/
URL:https://ausschreibungsradar.com/ausschreibung/23890240/
END:VEVENT
END:VCALENDAR
