BEGIN:VCALENDAR
VERSION:2.0
PRODID:-//AusschreibungsRadar//Timeline//DE
CALSCALE:GREGORIAN
METHOD:PUBLISH
X-WR-CALNAME:Projekt BImA, Neubau Bundespolizeipräsidium Potsdam, Rigole Compound
X-WR-TIMEZONE:Europe/Berlin
BEGIN:VEVENT
UID:557db5453787ddde@ausschreibungsradar.com
DTSTAMP:20260425T155208Z
DTSTART;VALUE=DATE:20250618
DTEND;VALUE=DATE:20250618
SUMMARY:Ausschreibung — BImA\, Neubau Bundespolizeipräsidium Potsdam\, Rigole Compound
DESCRIPTION:Phase: Ausschreibung | Beschreibung: Offizielle Ausschreibung mit Bieterfrist. | Link: https://ausschreibungsradar.com/ausschreibung/24001294/
URL:https://ausschreibungsradar.com/ausschreibung/24001294/
END:VEVENT
BEGIN:VEVENT
UID:63a198823ad2f8d2@ausschreibungsradar.com
DTSTAMP:20260425T155208Z
DTSTART;VALUE=DATE:20250701
DTEND;VALUE=DATE:20250701
SUMMARY:Zuschlag — BImA\, Neubau Bundespolizeipräsidium Potsdam\, Rigole Compound
DESCRIPTION:Phase: Zuschlag | Beschreibung: Vergabeergebnis — Auftrag wurde erteilt oder Verfahren beendet. | Link: https://ausschreibungsradar.com/ausschreibung/8a9a80a7-3ca1-4238-8b80-8c482d00fa5e/
URL:https://ausschreibungsradar.com/ausschreibung/8a9a80a7-3ca1-4238-8b80-8c482d00fa5e/
END:VEVENT
BEGIN:VEVENT
UID:a273f5e5ccbdd78f@ausschreibungsradar.com
DTSTAMP:20260425T155208Z
DTSTART;VALUE=DATE:20250714
DTEND;VALUE=DATE:20250714
SUMMARY:Ausschreibung — BImA\, Neubau Bundespolizeipräsidium Potsdam\, Rigole Compound
DESCRIPTION:Phase: Ausschreibung | Beschreibung: Offizielle Ausschreibung mit Bieterfrist. | Link: https://ausschreibungsradar.com/ausschreibung/24118918/
URL:https://ausschreibungsradar.com/ausschreibung/24118918/
END:VEVENT
END:VCALENDAR
