BEGIN:VCALENDAR
VERSION:2.0
PRODID:-//AusschreibungsRadar//Timeline//DE
CALSCALE:GREGORIAN
METHOD:PUBLISH
X-WR-CALNAME:Projekt Los 24.1 - Außenanlagen Neubau Feuerwehrgerätehaus Mitte Kat
X-WR-TIMEZONE:Europe/Berlin
BEGIN:VEVENT
UID:bf12d2267a33b6f6@ausschreibungsradar.com
DTSTAMP:20260424T133044Z
DTSTART;VALUE=DATE:20250702
DTEND;VALUE=DATE:20250702
SUMMARY:Ausschreibung — Los 24.1 - Außenanlagen Neubau Feuerwehrgerätehaus Mitte Kat
DESCRIPTION:Phase: Ausschreibung | Beschreibung: Offizielle Ausschreibung mit Bieterfrist. | Link: https://ausschreibungsradar.com/ausschreibung/24060864/
URL:https://ausschreibungsradar.com/ausschreibung/24060864/
END:VEVENT
BEGIN:VEVENT
UID:ecea14266bdde6ca@ausschreibungsradar.com
DTSTAMP:20260424T133044Z
DTSTART;VALUE=DATE:20250724
DTEND;VALUE=DATE:20250724
SUMMARY:Ausschreibung — Los 24.1 - Außenanlagen Neubau Feuerwehrgerätehaus Mitte Kat
DESCRIPTION:Phase: Ausschreibung | Beschreibung: Offizielle Ausschreibung mit Bieterfrist. | Link: https://ausschreibungsradar.com/ausschreibung/24172392/
URL:https://ausschreibungsradar.com/ausschreibung/24172392/
END:VEVENT
END:VCALENDAR
