BEGIN:VCALENDAR
VERSION:2.0
PRODID:-//AusschreibungsRadar//Timeline//DE
CALSCALE:GREGORIAN
METHOD:PUBLISH
X-WR-CALNAME:Projekt Werkstattumbau H2-Busse - Los 1 Gaswarnanlage mit Elektroins
X-WR-TIMEZONE:Europe/Berlin
BEGIN:VEVENT
UID:476660d3a132276b@ausschreibungsradar.com
DTSTAMP:20260426T015250Z
DTSTART;VALUE=DATE:20250707
DTEND;VALUE=DATE:20250707
SUMMARY:Ausschreibung — Werkstattumbau H2-Busse - Los 1 Gaswarnanlage mit Elektroins
DESCRIPTION:Phase: Ausschreibung | Beschreibung: Offizielle Ausschreibung mit Bieterfrist. | Link: https://ausschreibungsradar.com/ausschreibung/24082646/
URL:https://ausschreibungsradar.com/ausschreibung/24082646/
END:VEVENT
BEGIN:VEVENT
UID:d50b50350f6ff8d4@ausschreibungsradar.com
DTSTAMP:20260426T015250Z
DTSTART;VALUE=DATE:20250716
DTEND;VALUE=DATE:20250716
SUMMARY:Ausschreibung — Werkstattumbau H2-Busse - Los 1 Gaswarnanlage mit Elektroins
DESCRIPTION:Phase: Ausschreibung | Beschreibung: Offizielle Ausschreibung mit Bieterfrist. | Link: https://ausschreibungsradar.com/ausschreibung/24131542/
URL:https://ausschreibungsradar.com/ausschreibung/24131542/
END:VEVENT
END:VCALENDAR
