BEGIN:VCALENDAR
VERSION:2.0
PRODID:-//AusschreibungsRadar//Timeline//DE
CALSCALE:GREGORIAN
METHOD:PUBLISH
X-WR-CALNAME:Projekt Aufstockung Kindertagesstätte Hamm (Sieg) - Putz- und Malera
X-WR-TIMEZONE:Europe/Berlin
BEGIN:VEVENT
UID:041df6b37754c54b@ausschreibungsradar.com
DTSTAMP:20260425T142909Z
DTSTART;VALUE=DATE:20250711
DTEND;VALUE=DATE:20250711
SUMMARY:Ausschreibung — Aufstockung Kindertagesstätte Hamm (Sieg) - Putz- und Malera
DESCRIPTION:Phase: Ausschreibung | Beschreibung: Offizielle Ausschreibung mit Bieterfrist. | Link: https://ausschreibungsradar.com/ausschreibung/24106232/
URL:https://ausschreibungsradar.com/ausschreibung/24106232/
END:VEVENT
BEGIN:VEVENT
UID:768705efe0fe0165@ausschreibungsradar.com
DTSTAMP:20260425T142909Z
DTSTART;VALUE=DATE:20250711
DTEND;VALUE=DATE:20250711
SUMMARY:Ausschreibung — Aufstockung Kindertagesstätte Hamm (Sieg) - Putz- und Malera
DESCRIPTION:Phase: Ausschreibung | Beschreibung: Offizielle Ausschreibung mit Bieterfrist. | Link: https://ausschreibungsradar.com/ausschreibung/24106216/
URL:https://ausschreibungsradar.com/ausschreibung/24106216/
END:VEVENT
END:VCALENDAR
