BEGIN:VCALENDAR
VERSION:2.0
PRODID:-//AusschreibungsRadar//Timeline//DE
CALSCALE:GREGORIAN
METHOD:PUBLISH
X-WR-CALNAME:Projekt construct-X PM-Tools
X-WR-TIMEZONE:Europe/Berlin
BEGIN:VEVENT
UID:ce392fe74d5aca70@ausschreibungsradar.com
DTSTAMP:20260425T142915Z
DTSTART;VALUE=DATE:20250714
DTEND;VALUE=DATE:20250714
SUMMARY:Ausschreibung — construct-X PM-Tools
DESCRIPTION:Phase: Ausschreibung | Beschreibung: Offizielle Ausschreibung mit Bieterfrist. | Link: https://ausschreibungsradar.com/ausschreibung/24118104/
URL:https://ausschreibungsradar.com/ausschreibung/24118104/
END:VEVENT
BEGIN:VEVENT
UID:28d0c821b8aee944@ausschreibungsradar.com
DTSTAMP:20260425T142915Z
DTSTART;VALUE=DATE:20250725
DTEND;VALUE=DATE:20250725
SUMMARY:Ausschreibung — construct-X PM-Tools
DESCRIPTION:Phase: Ausschreibung | Beschreibung: Offizielle Ausschreibung mit Bieterfrist. | Link: https://ausschreibungsradar.com/ausschreibung/24179640/
URL:https://ausschreibungsradar.com/ausschreibung/24179640/
END:VEVENT
END:VCALENDAR
