BEGIN:VCALENDAR
VERSION:2.0
PRODID:-//AusschreibungsRadar//Timeline//DE
CALSCALE:GREGORIAN
METHOD:PUBLISH
X-WR-CALNAME:Projekt Haustechnische Installationen Heizungs- Lüftungs- und Sanitä
X-WR-TIMEZONE:Europe/Berlin
BEGIN:VEVENT
UID:121789267d777eba@ausschreibungsradar.com
DTSTAMP:20260425T125214Z
DTSTART;VALUE=DATE:20250827
DTEND;VALUE=DATE:20250827
SUMMARY:Ausschreibung — Haustechnische Installationen Heizungs- Lüftungs- und Sanitä
DESCRIPTION:Phase: Ausschreibung | Beschreibung: Offizielle Ausschreibung mit Bieterfrist. | Link: https://ausschreibungsradar.com/ausschreibung/24328394/
URL:https://ausschreibungsradar.com/ausschreibung/24328394/
END:VEVENT
BEGIN:VEVENT
UID:87fee9410da598d5@ausschreibungsradar.com
DTSTAMP:20260425T125214Z
DTSTART;VALUE=DATE:20250902
DTEND;VALUE=DATE:20250902
SUMMARY:Ausschreibung — Haustechnische Installationen Heizungs- Lüftungs- und Sanitä
DESCRIPTION:Phase: Ausschreibung | Beschreibung: Offizielle Ausschreibung mit Bieterfrist. | Link: https://ausschreibungsradar.com/ausschreibung/24352860/
URL:https://ausschreibungsradar.com/ausschreibung/24352860/
END:VEVENT
END:VCALENDAR
