BEGIN:VCALENDAR
VERSION:2.0
PRODID:-//AusschreibungsRadar//Timeline//DE
CALSCALE:GREGORIAN
METHOD:PUBLISH
X-WR-CALNAME:Projekt Öffentliche Ausschreibung von Erd-, Rohbau- & Pflasterarbeit
X-WR-TIMEZONE:Europe/Berlin
BEGIN:VEVENT
UID:c4bd9210c97d5d39@ausschreibungsradar.com
DTSTAMP:20260426T015238Z
DTSTART;VALUE=DATE:20250903
DTEND;VALUE=DATE:20250903
SUMMARY:Ausschreibung — Öffentliche Ausschreibung von Erd-\, Rohbau- & Pflasterarbeit
DESCRIPTION:Phase: Ausschreibung | Beschreibung: Offizielle Ausschreibung mit Bieterfrist. | Link: https://ausschreibungsradar.com/ausschreibung/24351350/
URL:https://ausschreibungsradar.com/ausschreibung/24351350/
END:VEVENT
BEGIN:VEVENT
UID:9423386232d6fea1@ausschreibungsradar.com
DTSTAMP:20260426T015238Z
DTSTART;VALUE=DATE:20250903
DTEND;VALUE=DATE:20250903
SUMMARY:Ausschreibung — Öffentliche Ausschreibung von Erd-\, Rohbau- & Pflasterarbeit
DESCRIPTION:Phase: Ausschreibung | Beschreibung: Offizielle Ausschreibung mit Bieterfrist. | Link: https://ausschreibungsradar.com/ausschreibung/24351394/
URL:https://ausschreibungsradar.com/ausschreibung/24351394/
END:VEVENT
END:VCALENDAR
