BEGIN:VCALENDAR
VERSION:2.0
PRODID:-//AusschreibungsRadar//Timeline//DE
CALSCALE:GREGORIAN
METHOD:PUBLISH
X-WR-CALNAME:Projekt 31_BRAUNS_Los 14 - Tischler_Innentüren
X-WR-TIMEZONE:Europe/Berlin
BEGIN:VEVENT
UID:e7da69c97018211c@ausschreibungsradar.com
DTSTAMP:20260424T032148Z
DTSTART;VALUE=DATE:20250826
DTEND;VALUE=DATE:20250826
SUMMARY:Ausschreibung — 31_BRAUNS_Los 14 - Tischler_Innentüren
DESCRIPTION:Phase: Ausschreibung | Beschreibung: Offizielle Ausschreibung mit Bieterfrist. | Link: https://ausschreibungsradar.com/ausschreibung/24318870/
URL:https://ausschreibungsradar.com/ausschreibung/24318870/
END:VEVENT
BEGIN:VEVENT
UID:fa40e3c173175d50@ausschreibungsradar.com
DTSTAMP:20260424T032148Z
DTSTART;VALUE=DATE:20250924
DTEND;VALUE=DATE:20250924
SUMMARY:Ausschreibung — 31_BRAUNS_Los 14 - Tischler_Innentüren
DESCRIPTION:Phase: Ausschreibung | Beschreibung: Offizielle Ausschreibung mit Bieterfrist. | Link: https://ausschreibungsradar.com/ausschreibung/24439806/
URL:https://ausschreibungsradar.com/ausschreibung/24439806/
END:VEVENT
END:VCALENDAR
