BEGIN:VCALENDAR
VERSION:2.0
PRODID:-//AusschreibungsRadar//Timeline//DE
CALSCALE:GREGORIAN
METHOD:PUBLISH
X-WR-CALNAME:Projekt Sanierung und Erweiterung Erlebnisbad Senftenberg - Los 03 B
X-WR-TIMEZONE:Europe/Berlin
BEGIN:VEVENT
UID:ec64584d365b5c38@ausschreibungsradar.com
DTSTAMP:20260424T014510Z
DTSTART;VALUE=DATE:20250904
DTEND;VALUE=DATE:20250904
SUMMARY:Zuschlag — Sanierung und Erweiterung Erlebnisbad Senftenberg - Los 03 B
DESCRIPTION:Phase: Zuschlag | Beschreibung: Vergabeergebnis — Auftrag wurde erteilt oder Verfahren beendet. | Link: https://ausschreibungsradar.com/ausschreibung/22380473-dc72-4c93-a4da-365774705b0d/
URL:https://ausschreibungsradar.com/ausschreibung/22380473-dc72-4c93-a4da-365774705b0d/
END:VEVENT
BEGIN:VEVENT
UID:fb392a1fd3f767de@ausschreibungsradar.com
DTSTAMP:20260424T014510Z
DTSTART;VALUE=DATE:20250908
DTEND;VALUE=DATE:20250908
SUMMARY:Ausschreibung — Sanierung und Erweiterung Erlebnisbad Senftenberg - Los 03 B
DESCRIPTION:Phase: Ausschreibung | Beschreibung: Offizielle Ausschreibung mit Bieterfrist. | Link: https://ausschreibungsradar.com/ausschreibung/b6c60e99-61e9-442b-a7c1-b7ce528ee053/
URL:https://ausschreibungsradar.com/ausschreibung/b6c60e99-61e9-442b-a7c1-b7ce528ee053/
END:VEVENT
BEGIN:VEVENT
UID:2f3ada866c73194b@ausschreibungsradar.com
DTSTAMP:20260424T014510Z
DTSTART;VALUE=DATE:20250918
DTEND;VALUE=DATE:20250918
SUMMARY:Ausschreibung — Sanierung und Erweiterung Erlebnisbad Senftenberg - Los 03 B
DESCRIPTION:Phase: Ausschreibung | Beschreibung: Offizielle Ausschreibung mit Bieterfrist. | Link: https://ausschreibungsradar.com/ausschreibung/b81a52fe-9f35-4df0-9955-3350cc48bccc/
URL:https://ausschreibungsradar.com/ausschreibung/b81a52fe-9f35-4df0-9955-3350cc48bccc/
END:VEVENT
BEGIN:VEVENT
UID:5a7b09a9301bf08d@ausschreibungsradar.com
DTSTAMP:20260424T014510Z
DTSTART;VALUE=DATE:20250918
DTEND;VALUE=DATE:20250918
SUMMARY:Ausschreibung — Sanierung und Erweiterung Erlebnisbad Senftenberg - Los 03 B
DESCRIPTION:Phase: Ausschreibung | Beschreibung: Offizielle Ausschreibung mit Bieterfrist. | Link: https://ausschreibungsradar.com/ausschreibung/886614d3-3ddf-46b3-8e2a-8313a20c9462/
URL:https://ausschreibungsradar.com/ausschreibung/886614d3-3ddf-46b3-8e2a-8313a20c9462/
END:VEVENT
BEGIN:VEVENT
UID:a01a2ad7dc873c05@ausschreibungsradar.com
DTSTAMP:20260424T014510Z
DTSTART;VALUE=DATE:20250926
DTEND;VALUE=DATE:20250926
SUMMARY:Ausschreibung — Sanierung und Erweiterung Erlebnisbad Senftenberg - Los 03 B
DESCRIPTION:Phase: Ausschreibung | Beschreibung: Offizielle Ausschreibung mit Bieterfrist. | Link: https://ausschreibungsradar.com/ausschreibung/9077f8d1-268e-4822-a48f-4dbe917c3c9a/
URL:https://ausschreibungsradar.com/ausschreibung/9077f8d1-268e-4822-a48f-4dbe917c3c9a/
END:VEVENT
BEGIN:VEVENT
UID:4135da31386adb8c@ausschreibungsradar.com
DTSTAMP:20260424T014510Z
DTSTART;VALUE=DATE:20250929
DTEND;VALUE=DATE:20250929
SUMMARY:Ausschreibung — Sanierung und Erweiterung Erlebnisbad Senftenberg - Los 03 B
DESCRIPTION:Phase: Ausschreibung | Beschreibung: Offizielle Ausschreibung mit Bieterfrist. | Link: https://ausschreibungsradar.com/ausschreibung/24458574/
URL:https://ausschreibungsradar.com/ausschreibung/24458574/
END:VEVENT
END:VCALENDAR
