BEGIN:VCALENDAR
VERSION:2.0
PRODID:-//AusschreibungsRadar//Timeline//DE
CALSCALE:GREGORIAN
METHOD:PUBLISH
X-WR-CALNAME:Projekt Umbau und Erweiterung Feuerwehrgerätehaus Groß Leine
X-WR-TIMEZONE:Europe/Berlin
BEGIN:VEVENT
UID:bf3418c53e673db9@ausschreibungsradar.com
DTSTAMP:20260426T003943Z
DTSTART;VALUE=DATE:20251008
DTEND;VALUE=DATE:20251008
SUMMARY:Ausschreibung — Umbau und Erweiterung Feuerwehrgerätehaus Groß Leine
DESCRIPTION:Phase: Ausschreibung | Beschreibung: Offizielle Ausschreibung mit Bieterfrist. | Link: https://ausschreibungsradar.com/ausschreibung/24500850/
URL:https://ausschreibungsradar.com/ausschreibung/24500850/
END:VEVENT
BEGIN:VEVENT
UID:7ec7fdfddd57ac03@ausschreibungsradar.com
DTSTAMP:20260426T003943Z
DTSTART;VALUE=DATE:20251008
DTEND;VALUE=DATE:20251008
SUMMARY:Ausschreibung — Umbau und Erweiterung Feuerwehrgerätehaus Groß Leine
DESCRIPTION:Phase: Ausschreibung | Beschreibung: Offizielle Ausschreibung mit Bieterfrist. | Link: https://ausschreibungsradar.com/ausschreibung/24500826/
URL:https://ausschreibungsradar.com/ausschreibung/24500826/
END:VEVENT
END:VCALENDAR
