BEGIN:VCALENDAR
VERSION:2.0
PRODID:-//AusschreibungsRadar//Timeline//DE
CALSCALE:GREGORIAN
METHOD:PUBLISH
X-WR-CALNAME:Projekt Umbau und Erweiterung Feuerwehrgerätehaus Groß Leine Los 10 
X-WR-TIMEZONE:Europe/Berlin
BEGIN:VEVENT
UID:09ce4e5a59ba894c@ausschreibungsradar.com
DTSTAMP:20260425T155052Z
DTSTART;VALUE=DATE:20251008
DTEND;VALUE=DATE:20251008
SUMMARY:Ausschreibung — Umbau und Erweiterung Feuerwehrgerätehaus Groß Leine Los 10 
DESCRIPTION:Phase: Ausschreibung | Beschreibung: Offizielle Ausschreibung mit Bieterfrist. | Link: https://ausschreibungsradar.com/ausschreibung/24500870/
URL:https://ausschreibungsradar.com/ausschreibung/24500870/
END:VEVENT
BEGIN:VEVENT
UID:bf3418c53e673db9@ausschreibungsradar.com
DTSTAMP:20260425T155052Z
DTSTART;VALUE=DATE:20251008
DTEND;VALUE=DATE:20251008
SUMMARY:Ausschreibung — Umbau und Erweiterung Feuerwehrgerätehaus Groß Leine Los 10 
DESCRIPTION:Phase: Ausschreibung | Beschreibung: Offizielle Ausschreibung mit Bieterfrist. | Link: https://ausschreibungsradar.com/ausschreibung/24500850/
URL:https://ausschreibungsradar.com/ausschreibung/24500850/
END:VEVENT
END:VCALENDAR
