BEGIN:VCALENDAR
VERSION:2.0
PRODID:-//AusschreibungsRadar//Timeline//DE
CALSCALE:GREGORIAN
METHOD:PUBLISH
X-WR-CALNAME:Projekt Freiwillige Feuerwehr Verbandsgemeinde Nastätten Tragkraft-S
X-WR-TIMEZONE:Europe/Berlin
BEGIN:VEVENT
UID:2aac92805481e9de@ausschreibungsradar.com
DTSTAMP:20260424T090727Z
DTSTART;VALUE=DATE:20251014
DTEND;VALUE=DATE:20251014
SUMMARY:Ausschreibung — Freiwillige Feuerwehr Verbandsgemeinde Nastätten Tragkraft-S
DESCRIPTION:Phase: Ausschreibung | Beschreibung: Offizielle Ausschreibung mit Bieterfrist. | Link: https://ausschreibungsradar.com/ausschreibung/24522886/
URL:https://ausschreibungsradar.com/ausschreibung/24522886/
END:VEVENT
BEGIN:VEVENT
UID:131ce199e057d34c@ausschreibungsradar.com
DTSTAMP:20260424T090727Z
DTSTART;VALUE=DATE:20251014
DTEND;VALUE=DATE:20251014
SUMMARY:Ausschreibung — Freiwillige Feuerwehr Verbandsgemeinde Nastätten Tragkraft-S
DESCRIPTION:Phase: Ausschreibung | Beschreibung: Offizielle Ausschreibung mit Bieterfrist. | Link: https://ausschreibungsradar.com/ausschreibung/24522882/
URL:https://ausschreibungsradar.com/ausschreibung/24522882/
END:VEVENT
END:VCALENDAR
