BEGIN:VCALENDAR
VERSION:2.0
PRODID:-//AusschreibungsRadar//Timeline//DE
CALSCALE:GREGORIAN
METHOD:PUBLISH
X-WR-CALNAME:Projekt Sanierung Erlebnisbad Finto - Wasser-Roehrenrutschenanlage
X-WR-TIMEZONE:Europe/Berlin
BEGIN:VEVENT
UID:8a3beb2dee026e3b@ausschreibungsradar.com
DTSTAMP:20260426T030057Z
DTSTART;VALUE=DATE:20251016
DTEND;VALUE=DATE:20251016
SUMMARY:Ausschreibung — Sanierung Erlebnisbad Finto - Wasser-Roehrenrutschenanlage
DESCRIPTION:Phase: Ausschreibung | Beschreibung: Offizielle Ausschreibung mit Bieterfrist. | Link: https://ausschreibungsradar.com/ausschreibung/24541456/
URL:https://ausschreibungsradar.com/ausschreibung/24541456/
END:VEVENT
BEGIN:VEVENT
UID:901f07c2c53bb12a@ausschreibungsradar.com
DTSTAMP:20260426T030057Z
DTSTART;VALUE=DATE:20251017
DTEND;VALUE=DATE:20251017
SUMMARY:Ausschreibung — Sanierung Erlebnisbad Finto - Wasser-Roehrenrutschenanlage
DESCRIPTION:Phase: Ausschreibung | Beschreibung: Offizielle Ausschreibung mit Bieterfrist. | Link: https://ausschreibungsradar.com/ausschreibung/24546682/
URL:https://ausschreibungsradar.com/ausschreibung/24546682/
END:VEVENT
END:VCALENDAR
