BEGIN:VCALENDAR
VERSION:2.0
PRODID:-//AusschreibungsRadar//Timeline//DE
CALSCALE:GREGORIAN
METHOD:PUBLISH
X-WR-CALNAME:Projekt Geb.8801 Optics University Center and Campus (OPTICUM) - VE8
X-WR-TIMEZONE:Europe/Berlin
BEGIN:VEVENT
UID:26bd7bfd710d8c25@ausschreibungsradar.com
DTSTAMP:20260425T173119Z
DTSTART;VALUE=DATE:20251028
DTEND;VALUE=DATE:20251028
SUMMARY:Ausschreibung — Geb.8801 Optics University Center and Campus (OPTICUM) - VE8
DESCRIPTION:Phase: Ausschreibung | Beschreibung: Offizielle Ausschreibung mit Bieterfrist. | Link: https://ausschreibungsradar.com/ausschreibung/24583864/
URL:https://ausschreibungsradar.com/ausschreibung/24583864/
END:VEVENT
BEGIN:VEVENT
UID:2f980eab7ca139e0@ausschreibungsradar.com
DTSTAMP:20260425T173119Z
DTSTART;VALUE=DATE:20251112
DTEND;VALUE=DATE:20251112
SUMMARY:Zuschlag — Geb.8801 Optics University Center and Campus (OPTICUM) - VE8
DESCRIPTION:Phase: Zuschlag | Beschreibung: Vergabeergebnis — Auftrag wurde erteilt oder Verfahren beendet. | Link: https://ausschreibungsradar.com/ausschreibung/0d91851a-1c76-4582-86e2-27defa74ecd8/
URL:https://ausschreibungsradar.com/ausschreibung/0d91851a-1c76-4582-86e2-27defa74ecd8/
END:VEVENT
END:VCALENDAR
