BEGIN:VCALENDAR
VERSION:2.0
PRODID:-//AusschreibungsRadar//Timeline//DE
CALSCALE:GREGORIAN
METHOD:PUBLISH
X-WR-CALNAME:Projekt Abschluss einer nicht-exklusiven Rabattvereinbarung nach § 1
X-WR-TIMEZONE:Europe/Berlin
BEGIN:VEVENT
UID:244720221b37a745@ausschreibungsradar.com
DTSTAMP:20260425T131948Z
DTSTART;VALUE=DATE:20251205
DTEND;VALUE=DATE:20251205
SUMMARY:Angebotsfrist — Abschluss einer nicht-exklusiven Rabattvereinbarung nach § 1
DESCRIPTION:Phase: Ausschreibung | Beschreibung: Angebote werden eingeholt | Link: https://ausschreibungsradar.com/ausschreibung/c5e2a6a8-bd7e-488e-bee3-519b86ca630c/ | Geschätzter Wert: 1 €
URL:https://ausschreibungsradar.com/ausschreibung/c5e2a6a8-bd7e-488e-bee3-519b86ca630c/
END:VEVENT
BEGIN:VEVENT
UID:67a9287154f62b41@ausschreibungsradar.com
DTSTAMP:20260425T131948Z
DTSTART;VALUE=DATE:20260128
DTEND;VALUE=DATE:20260128
SUMMARY:Vergabeergebnis — Abschluss einer nicht-exklusiven Rabattvereinbarung nach § 1
DESCRIPTION:Phase: Vergabeergebnis | Beschreibung: Sonstige Gründe | Link: https://ausschreibungsradar.com/ausschreibung/2458ee9e-0191-41ee-8ce3-7f6232eaf005/ | Geschätzter Wert: 1 €
URL:https://ausschreibungsradar.com/ausschreibung/2458ee9e-0191-41ee-8ce3-7f6232eaf005/
END:VEVENT
BEGIN:VEVENT
UID:7d065d034f2f64ee@ausschreibungsradar.com
DTSTAMP:20260425T131948Z
DTSTART;VALUE=DATE:20260128
DTEND;VALUE=DATE:20260128
SUMMARY:Zuschlag — Abschluss einer nicht-exklusiven Rabattvereinbarung nach § 1
DESCRIPTION:Phase: Zuschlag | Beschreibung: Vergabeergebnis — Auftrag wurde erteilt oder Verfahren beendet. | Link: https://ausschreibungsradar.com/ausschreibung/4c5a31f1-2840-4cef-9d32-88b12839207e/
URL:https://ausschreibungsradar.com/ausschreibung/4c5a31f1-2840-4cef-9d32-88b12839207e/
END:VEVENT
END:VCALENDAR
