BEGIN:VCALENDAR
VERSION:2.0
PRODID:-//AusschreibungsRadar//Timeline//DE
CALSCALE:GREGORIAN
METHOD:PUBLISH
X-WR-CALNAME:Projekt Umbau Badehalle Weststrand Norderney
X-WR-TIMEZONE:Europe/Berlin
BEGIN:VEVENT
UID:428808ed1c1de6cc@ausschreibungsradar.com
DTSTAMP:20260424T032340Z
DTSTART;VALUE=DATE:20251104
DTEND;VALUE=DATE:20251104
SUMMARY:Ausschreibung — Umbau Badehalle Weststrand Norderney
DESCRIPTION:Phase: Ausschreibung | Beschreibung: Offizielle Ausschreibung mit Bieterfrist. | Link: https://ausschreibungsradar.com/ausschreibung/24608832/
URL:https://ausschreibungsradar.com/ausschreibung/24608832/
END:VEVENT
BEGIN:VEVENT
UID:f3089946aaae2b67@ausschreibungsradar.com
DTSTAMP:20260424T032340Z
DTSTART;VALUE=DATE:20251104
DTEND;VALUE=DATE:20251104
SUMMARY:Ausschreibung — Umbau Badehalle Weststrand Norderney
DESCRIPTION:Phase: Ausschreibung | Beschreibung: Offizielle Ausschreibung mit Bieterfrist. | Link: https://ausschreibungsradar.com/ausschreibung/24608836/
URL:https://ausschreibungsradar.com/ausschreibung/24608836/
END:VEVENT
BEGIN:VEVENT
UID:7e3b303ba86f75c9@ausschreibungsradar.com
DTSTAMP:20260424T032340Z
DTSTART;VALUE=DATE:20251107
DTEND;VALUE=DATE:20251107
SUMMARY:Ausschreibung — Umbau Badehalle Weststrand Norderney
DESCRIPTION:Phase: Ausschreibung | Beschreibung: Offizielle Ausschreibung mit Bieterfrist. | Link: https://ausschreibungsradar.com/ausschreibung/24625360/
URL:https://ausschreibungsradar.com/ausschreibung/24625360/
END:VEVENT
END:VCALENDAR
