BEGIN:VCALENDAR
VERSION:2.0
PRODID:-//AusschreibungsRadar//Timeline//DE
CALSCALE:GREGORIAN
METHOD:PUBLISH
X-WR-CALNAME:Projekt Rahmenvereinbarung über die Lieferung von BVDA-Gelatinefolie
X-WR-TIMEZONE:Europe/Berlin
BEGIN:VEVENT
UID:9259de2580ae6e65@ausschreibungsradar.com
DTSTAMP:20260423T232554Z
DTSTART;VALUE=DATE:20251110
DTEND;VALUE=DATE:20251110
SUMMARY:Zuschlag — Rahmenvereinbarung über die Lieferung von BVDA-Gelatinefolie
DESCRIPTION:Phase: Zuschlag | Beschreibung: Vergabeergebnis — Auftrag wurde erteilt oder Verfahren beendet. | Link: https://ausschreibungsradar.com/ausschreibung/24635290/
URL:https://ausschreibungsradar.com/ausschreibung/24635290/
END:VEVENT
BEGIN:VEVENT
UID:c27c36096c1fbb4c@ausschreibungsradar.com
DTSTAMP:20260423T232554Z
DTSTART;VALUE=DATE:20251111
DTEND;VALUE=DATE:20251111
SUMMARY:Ausschreibung — Rahmenvereinbarung über die Lieferung von BVDA-Gelatinefolie
DESCRIPTION:Phase: Ausschreibung | Beschreibung: Offizielle Ausschreibung mit Bieterfrist. | Link: https://ausschreibungsradar.com/ausschreibung/9ca66790-5ec6-468f-b4d7-ce2414b84565/
URL:https://ausschreibungsradar.com/ausschreibung/9ca66790-5ec6-468f-b4d7-ce2414b84565/
END:VEVENT
BEGIN:VEVENT
UID:9ca349baac949757@ausschreibungsradar.com
DTSTAMP:20260423T232554Z
DTSTART;VALUE=DATE:20251202
DTEND;VALUE=DATE:20251202
SUMMARY:Ausschreibung — Rahmenvereinbarung über die Lieferung von BVDA-Gelatinefolie
DESCRIPTION:Phase: Ausschreibung | Beschreibung: Offizielle Ausschreibung mit Bieterfrist. | Link: https://ausschreibungsradar.com/ausschreibung/2bdff751-d388-43b8-a9cb-4abfe32e74de/
URL:https://ausschreibungsradar.com/ausschreibung/2bdff751-d388-43b8-a9cb-4abfe32e74de/
END:VEVENT
END:VCALENDAR
