BEGIN:VCALENDAR
VERSION:2.0
PRODID:-//AusschreibungsRadar//Timeline//DE
CALSCALE:GREGORIAN
METHOD:PUBLISH
X-WR-CALNAME:Projekt Geschlossene Kanalsanierung SW, MW und RW
X-WR-TIMEZONE:Europe/Berlin
BEGIN:VEVENT
UID:2b2d13415f080357@ausschreibungsradar.com
DTSTAMP:20260424T062221Z
DTSTART;VALUE=DATE:20251110
DTEND;VALUE=DATE:20251110
SUMMARY:Ausschreibung — Geschlossene Kanalsanierung SW\, MW und RW
DESCRIPTION:Phase: Ausschreibung | Beschreibung: Offizielle Ausschreibung mit Bieterfrist. | Link: https://ausschreibungsradar.com/ausschreibung/24637854/
URL:https://ausschreibungsradar.com/ausschreibung/24637854/
END:VEVENT
BEGIN:VEVENT
UID:0edb7b47ea4a5ab7@ausschreibungsradar.com
DTSTAMP:20260424T062221Z
DTSTART;VALUE=DATE:20251125
DTEND;VALUE=DATE:20251125
SUMMARY:Ausschreibung — Geschlossene Kanalsanierung SW\, MW und RW
DESCRIPTION:Phase: Ausschreibung | Beschreibung: Offizielle Ausschreibung mit Bieterfrist. | Link: https://ausschreibungsradar.com/ausschreibung/24700980/
URL:https://ausschreibungsradar.com/ausschreibung/24700980/
END:VEVENT
END:VCALENDAR
