BEGIN:VCALENDAR
VERSION:2.0
PRODID:-//AusschreibungsRadar//Timeline//DE
CALSCALE:GREGORIAN
METHOD:PUBLISH
X-WR-CALNAME:Projekt Optimierung und Erweiterung der Schulungsplattform - moodle
X-WR-TIMEZONE:Europe/Berlin
BEGIN:VEVENT
UID:2094ddfb6e7877cc@ausschreibungsradar.com
DTSTAMP:20260424T121752Z
DTSTART;VALUE=DATE:20251110
DTEND;VALUE=DATE:20251110
SUMMARY:Ausschreibung — Optimierung und Erweiterung der Schulungsplattform - moodle
DESCRIPTION:Phase: Ausschreibung | Beschreibung: Offizielle Ausschreibung mit Bieterfrist. | Link: https://ausschreibungsradar.com/ausschreibung/24634390/
URL:https://ausschreibungsradar.com/ausschreibung/24634390/
END:VEVENT
BEGIN:VEVENT
UID:f08a98be5e9f13da@ausschreibungsradar.com
DTSTAMP:20260424T121752Z
DTSTART;VALUE=DATE:20251111
DTEND;VALUE=DATE:20251111
SUMMARY:Ausschreibung — Optimierung und Erweiterung der Schulungsplattform - moodle
DESCRIPTION:Phase: Ausschreibung | Beschreibung: Offizielle Ausschreibung mit Bieterfrist. | Link: https://ausschreibungsradar.com/ausschreibung/24639326/
URL:https://ausschreibungsradar.com/ausschreibung/24639326/
END:VEVENT
BEGIN:VEVENT
UID:8921dcf35d6306b7@ausschreibungsradar.com
DTSTAMP:20260424T121752Z
DTSTART;VALUE=DATE:20251121
DTEND;VALUE=DATE:20251121
SUMMARY:Ausschreibung — Optimierung und Erweiterung der Schulungsplattform - moodle
DESCRIPTION:Phase: Ausschreibung | Beschreibung: Offizielle Ausschreibung mit Bieterfrist. | Link: https://ausschreibungsradar.com/ausschreibung/24686176/
URL:https://ausschreibungsradar.com/ausschreibung/24686176/
END:VEVENT
END:VCALENDAR
