BEGIN:VCALENDAR
VERSION:2.0
PRODID:-//AusschreibungsRadar//Timeline//DE
CALSCALE:GREGORIAN
METHOD:PUBLISH
X-WR-CALNAME:Projekt Neubau Feuerwehrgerätehaus, Neetzow-Liepen
X-WR-TIMEZONE:Europe/Berlin
BEGIN:VEVENT
UID:995c7b89a264afdf@ausschreibungsradar.com
DTSTAMP:20260424T151331Z
DTSTART;VALUE=DATE:20251113
DTEND;VALUE=DATE:20251113
SUMMARY:Ausschreibung — Neubau Feuerwehrgerätehaus\, Neetzow-Liepen
DESCRIPTION:Phase: Ausschreibung | Beschreibung: Offizielle Ausschreibung mit Bieterfrist. | Link: https://ausschreibungsradar.com/ausschreibung/24648792/
URL:https://ausschreibungsradar.com/ausschreibung/24648792/
END:VEVENT
BEGIN:VEVENT
UID:f678f6cd8ccf188c@ausschreibungsradar.com
DTSTAMP:20260424T151331Z
DTSTART;VALUE=DATE:20251113
DTEND;VALUE=DATE:20251113
SUMMARY:Ausschreibung — Neubau Feuerwehrgerätehaus\, Neetzow-Liepen
DESCRIPTION:Phase: Ausschreibung | Beschreibung: Offizielle Ausschreibung mit Bieterfrist. | Link: https://ausschreibungsradar.com/ausschreibung/24648808/
URL:https://ausschreibungsradar.com/ausschreibung/24648808/
END:VEVENT
END:VCALENDAR
