BEGIN:VCALENDAR
VERSION:2.0
PRODID:-//AusschreibungsRadar//Timeline//DE
CALSCALE:GREGORIAN
METHOD:PUBLISH
X-WR-CALNAME:Projekt Teilneubau Heinrich-Grupe-Schule 37124 Rosdorf - Gerüstbauar
X-WR-TIMEZONE:Europe/Berlin
BEGIN:VEVENT
UID:1df0a23c390be74b@ausschreibungsradar.com
DTSTAMP:20260424T115244Z
DTSTART;VALUE=DATE:20251111
DTEND;VALUE=DATE:20251111
SUMMARY:Ausschreibung — Teilneubau Heinrich-Grupe-Schule 37124 Rosdorf - Gerüstbauar
DESCRIPTION:Phase: Ausschreibung | Beschreibung: Offizielle Ausschreibung mit Bieterfrist. | Link: https://ausschreibungsradar.com/ausschreibung/24639524/
URL:https://ausschreibungsradar.com/ausschreibung/24639524/
END:VEVENT
BEGIN:VEVENT
UID:999a6ea314c09377@ausschreibungsradar.com
DTSTAMP:20260424T115244Z
DTSTART;VALUE=DATE:20251114
DTEND;VALUE=DATE:20251114
SUMMARY:Ausschreibung — Teilneubau Heinrich-Grupe-Schule 37124 Rosdorf - Gerüstbauar
DESCRIPTION:Phase: Ausschreibung | Beschreibung: Offizielle Ausschreibung mit Bieterfrist. | Link: https://ausschreibungsradar.com/ausschreibung/24657502/
URL:https://ausschreibungsradar.com/ausschreibung/24657502/
END:VEVENT
END:VCALENDAR
