BEGIN:VCALENDAR
VERSION:2.0
PRODID:-//AusschreibungsRadar//Timeline//DE
CALSCALE:GREGORIAN
METHOD:PUBLISH
X-WR-CALNAME:Projekt Kleine Riesen Haus (Pflegekompetenzzentrum) -  Stahlbau Schl
X-WR-TIMEZONE:Europe/Berlin
BEGIN:VEVENT
UID:63cabe4b30fe07a4@ausschreibungsradar.com
DTSTAMP:20260424T232750Z
DTSTART;VALUE=DATE:20251118
DTEND;VALUE=DATE:20251118
SUMMARY:Ausschreibung — Kleine Riesen Haus (Pflegekompetenzzentrum) -  Stahlbau Schl
DESCRIPTION:Phase: Ausschreibung | Beschreibung: Offizielle Ausschreibung mit Bieterfrist. | Link: https://ausschreibungsradar.com/ausschreibung/24670052/
URL:https://ausschreibungsradar.com/ausschreibung/24670052/
END:VEVENT
BEGIN:VEVENT
UID:b610287869b34316@ausschreibungsradar.com
DTSTAMP:20260424T232750Z
DTSTART;VALUE=DATE:20251216
DTEND;VALUE=DATE:20251216
SUMMARY:Ausschreibung — Kleine Riesen Haus (Pflegekompetenzzentrum) -  Stahlbau Schl
DESCRIPTION:Phase: Ausschreibung | Beschreibung: Offizielle Ausschreibung mit Bieterfrist. | Link: https://ausschreibungsradar.com/ausschreibung/24785548/
URL:https://ausschreibungsradar.com/ausschreibung/24785548/
END:VEVENT
END:VCALENDAR
