BEGIN:VCALENDAR
VERSION:2.0
PRODID:-//AusschreibungsRadar//Timeline//DE
CALSCALE:GREGORIAN
METHOD:PUBLISH
X-WR-CALNAME:Projekt Bundespolizeiabteilung Uelzen, Gebäude 13, Wiederertüchtigun
X-WR-TIMEZONE:Europe/Berlin
BEGIN:VEVENT
UID:8496b69a56d19977@ausschreibungsradar.com
DTSTAMP:20260426T024645Z
DTSTART;VALUE=DATE:20251027
DTEND;VALUE=DATE:20251027
SUMMARY:Ausschreibung — Bundespolizeiabteilung Uelzen\, Gebäude 13\, Wiederertüchtigun
DESCRIPTION:Phase: Ausschreibung | Beschreibung: Offizielle Ausschreibung mit Bieterfrist. | Link: https://ausschreibungsradar.com/ausschreibung/24578600/
URL:https://ausschreibungsradar.com/ausschreibung/24578600/
END:VEVENT
BEGIN:VEVENT
UID:0577e811db16d0f4@ausschreibungsradar.com
DTSTAMP:20260426T024645Z
DTSTART;VALUE=DATE:20251120
DTEND;VALUE=DATE:20251120
SUMMARY:Zuschlag — Bundespolizeiabteilung Uelzen\, Gebäude 13\, Wiederertüchtigun
DESCRIPTION:Phase: Zuschlag | Beschreibung: Vergabeergebnis — Auftrag wurde erteilt oder Verfahren beendet. | Link: https://ausschreibungsradar.com/ausschreibung/24680490/
URL:https://ausschreibungsradar.com/ausschreibung/24680490/
END:VEVENT
END:VCALENDAR
