BEGIN:VCALENDAR
VERSION:2.0
PRODID:-//AusschreibungsRadar//Timeline//DE
CALSCALE:GREGORIAN
METHOD:PUBLISH
X-WR-CALNAME:Projekt Kleine Riesen Haus (Pflegekompetenzzentrum) -  Fassadenarbei
X-WR-TIMEZONE:Europe/Berlin
BEGIN:VEVENT
UID:549d85e339752b5d@ausschreibungsradar.com
DTSTAMP:20260424T054024Z
DTSTART;VALUE=DATE:20251030
DTEND;VALUE=DATE:20251030
SUMMARY:Ausschreibung — Kleine Riesen Haus (Pflegekompetenzzentrum) -  Fassadenarbei
DESCRIPTION:Phase: Ausschreibung | Beschreibung: Offizielle Ausschreibung mit Bieterfrist. | Link: https://ausschreibungsradar.com/ausschreibung/24594878/
URL:https://ausschreibungsradar.com/ausschreibung/24594878/
END:VEVENT
BEGIN:VEVENT
UID:ac2128f831792d8e@ausschreibungsradar.com
DTSTAMP:20260424T054024Z
DTSTART;VALUE=DATE:20251104
DTEND;VALUE=DATE:20251104
SUMMARY:Ausschreibung — Kleine Riesen Haus (Pflegekompetenzzentrum) -  Fassadenarbei
DESCRIPTION:Phase: Ausschreibung | Beschreibung: Offizielle Ausschreibung mit Bieterfrist. | Link: https://ausschreibungsradar.com/ausschreibung/24611940/
URL:https://ausschreibungsradar.com/ausschreibung/24611940/
END:VEVENT
BEGIN:VEVENT
UID:63cabe4b30fe07a4@ausschreibungsradar.com
DTSTAMP:20260424T054024Z
DTSTART;VALUE=DATE:20251118
DTEND;VALUE=DATE:20251118
SUMMARY:Ausschreibung — Kleine Riesen Haus (Pflegekompetenzzentrum) -  Fassadenarbei
DESCRIPTION:Phase: Ausschreibung | Beschreibung: Offizielle Ausschreibung mit Bieterfrist. | Link: https://ausschreibungsradar.com/ausschreibung/24670052/
URL:https://ausschreibungsradar.com/ausschreibung/24670052/
END:VEVENT
BEGIN:VEVENT
UID:53f560b148d8e5d9@ausschreibungsradar.com
DTSTAMP:20260424T054024Z
DTSTART;VALUE=DATE:20251120
DTEND;VALUE=DATE:20251120
SUMMARY:Ausschreibung — Kleine Riesen Haus (Pflegekompetenzzentrum) -  Fassadenarbei
DESCRIPTION:Phase: Ausschreibung | Beschreibung: Offizielle Ausschreibung mit Bieterfrist. | Link: https://ausschreibungsradar.com/ausschreibung/24680754/
URL:https://ausschreibungsradar.com/ausschreibung/24680754/
END:VEVENT
BEGIN:VEVENT
UID:3727cc32b54417cf@ausschreibungsradar.com
DTSTAMP:20260424T054024Z
DTSTART;VALUE=DATE:20251216
DTEND;VALUE=DATE:20251216
SUMMARY:Ausschreibung — Kleine Riesen Haus (Pflegekompetenzzentrum) -  Fassadenarbei
DESCRIPTION:Phase: Ausschreibung | Beschreibung: Offizielle Ausschreibung mit Bieterfrist. | Link: https://ausschreibungsradar.com/ausschreibung/24785540/
URL:https://ausschreibungsradar.com/ausschreibung/24785540/
END:VEVENT
BEGIN:VEVENT
UID:b610287869b34316@ausschreibungsradar.com
DTSTAMP:20260424T054024Z
DTSTART;VALUE=DATE:20251216
DTEND;VALUE=DATE:20251216
SUMMARY:Ausschreibung — Kleine Riesen Haus (Pflegekompetenzzentrum) -  Fassadenarbei
DESCRIPTION:Phase: Ausschreibung | Beschreibung: Offizielle Ausschreibung mit Bieterfrist. | Link: https://ausschreibungsradar.com/ausschreibung/24785548/
URL:https://ausschreibungsradar.com/ausschreibung/24785548/
END:VEVENT
END:VCALENDAR
