BEGIN:VCALENDAR
VERSION:2.0
PRODID:-//AusschreibungsRadar//Timeline//DE
CALSCALE:GREGORIAN
METHOD:PUBLISH
X-WR-CALNAME:Projekt Reinigung Straßenentwässerungsanlagen Große Kreisstadt Radeb
X-WR-TIMEZONE:Europe/Berlin
BEGIN:VEVENT
UID:2f840566941645e2@ausschreibungsradar.com
DTSTAMP:20260424T032352Z
DTSTART;VALUE=DATE:20251121
DTEND;VALUE=DATE:20251121
SUMMARY:Ausschreibung — Reinigung Straßenentwässerungsanlagen Große Kreisstadt Radeb
DESCRIPTION:Phase: Ausschreibung | Beschreibung: Offizielle Ausschreibung mit Bieterfrist. | Link: https://ausschreibungsradar.com/ausschreibung/24686024/
URL:https://ausschreibungsradar.com/ausschreibung/24686024/
END:VEVENT
BEGIN:VEVENT
UID:139c3558902553ae@ausschreibungsradar.com
DTSTAMP:20260424T032352Z
DTSTART;VALUE=DATE:20251121
DTEND;VALUE=DATE:20251121
SUMMARY:Ausschreibung — Reinigung Straßenentwässerungsanlagen Große Kreisstadt Radeb
DESCRIPTION:Phase: Ausschreibung | Beschreibung: Offizielle Ausschreibung mit Bieterfrist. | Link: https://ausschreibungsradar.com/ausschreibung/24686012/
URL:https://ausschreibungsradar.com/ausschreibung/24686012/
END:VEVENT
BEGIN:VEVENT
UID:d1cfab95ef4d3e83@ausschreibungsradar.com
DTSTAMP:20260424T032352Z
DTSTART;VALUE=DATE:20251121
DTEND;VALUE=DATE:20251121
SUMMARY:Ausschreibung — Reinigung Straßenentwässerungsanlagen Große Kreisstadt Radeb
DESCRIPTION:Phase: Ausschreibung | Beschreibung: Offizielle Ausschreibung mit Bieterfrist. | Link: https://ausschreibungsradar.com/ausschreibung/24686016/
URL:https://ausschreibungsradar.com/ausschreibung/24686016/
END:VEVENT
END:VCALENDAR
