BEGIN:VCALENDAR
VERSION:2.0
PRODID:-//AusschreibungsRadar//Timeline//DE
CALSCALE:GREGORIAN
METHOD:PUBLISH
X-WR-CALNAME:Projekt Beschaffung MTF
X-WR-TIMEZONE:Europe/Berlin
BEGIN:VEVENT
UID:c63820f2c2d33de3@ausschreibungsradar.com
DTSTAMP:20260424T035010Z
DTSTART;VALUE=DATE:20251209
DTEND;VALUE=DATE:20251209
SUMMARY:Ausschreibung — Beschaffung MTF
DESCRIPTION:Phase: Ausschreibung | Beschreibung: Offizielle Ausschreibung mit Bieterfrist. | Link: https://ausschreibungsradar.com/ausschreibung/24753792/
URL:https://ausschreibungsradar.com/ausschreibung/24753792/
END:VEVENT
BEGIN:VEVENT
UID:b53dfcff2ca4f912@ausschreibungsradar.com
DTSTAMP:20260424T035010Z
DTSTART;VALUE=DATE:20251215
DTEND;VALUE=DATE:20251215
SUMMARY:Ausschreibung — Beschaffung MTF
DESCRIPTION:Phase: Ausschreibung | Beschreibung: Offizielle Ausschreibung mit Bieterfrist. | Link: https://ausschreibungsradar.com/ausschreibung/24779244/
URL:https://ausschreibungsradar.com/ausschreibung/24779244/
END:VEVENT
END:VCALENDAR
