BEGIN:VCALENDAR
VERSION:2.0
PRODID:-//AusschreibungsRadar//Timeline//DE
CALSCALE:GREGORIAN
METHOD:PUBLISH
X-WR-CALNAME:Projekt Sanierung Theodor-Heuss-Grundschule, Putz- und Malerarbeiten
X-WR-TIMEZONE:Europe/Berlin
BEGIN:VEVENT
UID:0951510df6fa1192@ausschreibungsradar.com
DTSTAMP:20260425T142902Z
DTSTART;VALUE=DATE:20251216
DTEND;VALUE=DATE:20251216
SUMMARY:Ausschreibung — Sanierung Theodor-Heuss-Grundschule\, Putz- und Malerarbeiten
DESCRIPTION:Phase: Ausschreibung | Beschreibung: Offizielle Ausschreibung mit Bieterfrist. | Link: https://ausschreibungsradar.com/ausschreibung/24786310/
URL:https://ausschreibungsradar.com/ausschreibung/24786310/
END:VEVENT
BEGIN:VEVENT
UID:c81d33f59a8168f6@ausschreibungsradar.com
DTSTAMP:20260425T142902Z
DTSTART;VALUE=DATE:20251216
DTEND;VALUE=DATE:20251216
SUMMARY:Ausschreibung — Sanierung Theodor-Heuss-Grundschule\, Putz- und Malerarbeiten
DESCRIPTION:Phase: Ausschreibung | Beschreibung: Offizielle Ausschreibung mit Bieterfrist. | Link: https://ausschreibungsradar.com/ausschreibung/24786306/
URL:https://ausschreibungsradar.com/ausschreibung/24786306/
END:VEVENT
END:VCALENDAR
