BEGIN:VCALENDAR
VERSION:2.0
PRODID:-//AusschreibungsRadar//Timeline//DE
CALSCALE:GREGORIAN
METHOD:PUBLISH
X-WR-CALNAME:Projekt Verlängerung bestehender Supportvereinbarung für den Betrieb
X-WR-TIMEZONE:Europe/Berlin
BEGIN:VEVENT
UID:768e1d463a55716e@ausschreibungsradar.com
DTSTAMP:20260424T074442Z
DTSTART;VALUE=DATE:20251118
DTEND;VALUE=DATE:20251118
SUMMARY:Ausschreibung — Verlängerung bestehender Supportvereinbarung für den Betrieb
DESCRIPTION:Phase: Ausschreibung | Beschreibung: Offizielle Ausschreibung mit Bieterfrist. | Link: https://ausschreibungsradar.com/ausschreibung/24669494/
URL:https://ausschreibungsradar.com/ausschreibung/24669494/
END:VEVENT
BEGIN:VEVENT
UID:11352b811c038d38@ausschreibungsradar.com
DTSTAMP:20260424T074442Z
DTSTART;VALUE=DATE:20251217
DTEND;VALUE=DATE:20251217
SUMMARY:Ausschreibung — Verlängerung bestehender Supportvereinbarung für den Betrieb
DESCRIPTION:Phase: Ausschreibung | Beschreibung: Offizielle Ausschreibung mit Bieterfrist. | Link: https://ausschreibungsradar.com/ausschreibung/24791424/
URL:https://ausschreibungsradar.com/ausschreibung/24791424/
END:VEVENT
END:VCALENDAR
