BEGIN:VCALENDAR
VERSION:2.0
PRODID:-//AusschreibungsRadar//Timeline//DE
CALSCALE:GREGORIAN
METHOD:PUBLISH
X-WR-CALNAME:Projekt Fliesenarbeiten
X-WR-TIMEZONE:Europe/Berlin
BEGIN:VEVENT
UID:4179245ec6478082@ausschreibungsradar.com
DTSTAMP:20260423T222033Z
DTSTART;VALUE=DATE:20251212
DTEND;VALUE=DATE:20251212
SUMMARY:Ausschreibung — Fliesenarbeiten
DESCRIPTION:Phase: Ausschreibung | Beschreibung: Offizielle Ausschreibung mit Bieterfrist. | Link: https://ausschreibungsradar.com/ausschreibung/24776740/
URL:https://ausschreibungsradar.com/ausschreibung/24776740/
END:VEVENT
BEGIN:VEVENT
UID:8b737ee6ea1cf2a3@ausschreibungsradar.com
DTSTAMP:20260423T222033Z
DTSTART;VALUE=DATE:20251218
DTEND;VALUE=DATE:20251218
SUMMARY:Ausschreibung — Fliesenarbeiten
DESCRIPTION:Phase: Ausschreibung | Beschreibung: Offizielle Ausschreibung mit Bieterfrist. | Link: https://ausschreibungsradar.com/ausschreibung/24806342/
URL:https://ausschreibungsradar.com/ausschreibung/24806342/
END:VEVENT
END:VCALENDAR
