BEGIN:VCALENDAR
VERSION:2.0
PRODID:-//AusschreibungsRadar//Timeline//DE
CALSCALE:GREGORIAN
METHOD:PUBLISH
X-WR-CALNAME:Projekt Kläranlage Brühl - Lieferung von Eisen-III-Chloridsulfad-Lös
X-WR-TIMEZONE:Europe/Berlin
BEGIN:VEVENT
UID:4ec6ef521eb14177@ausschreibungsradar.com
DTSTAMP:20260424T133037Z
DTSTART;VALUE=DATE:20251212
DTEND;VALUE=DATE:20251212
SUMMARY:Ausschreibung — Kläranlage Brühl - Lieferung von Eisen-III-Chloridsulfad-Lös
DESCRIPTION:Phase: Ausschreibung | Beschreibung: Offizielle Ausschreibung mit Bieterfrist. | Link: https://ausschreibungsradar.com/ausschreibung/24775996/
URL:https://ausschreibungsradar.com/ausschreibung/24775996/
END:VEVENT
BEGIN:VEVENT
UID:965d7fee017d08c2@ausschreibungsradar.com
DTSTAMP:20260424T133037Z
DTSTART;VALUE=DATE:20251223
DTEND;VALUE=DATE:20251223
SUMMARY:Ausschreibung — Kläranlage Brühl - Lieferung von Eisen-III-Chloridsulfad-Lös
DESCRIPTION:Phase: Ausschreibung | Beschreibung: Offizielle Ausschreibung mit Bieterfrist. | Link: https://ausschreibungsradar.com/ausschreibung/24825908/
URL:https://ausschreibungsradar.com/ausschreibung/24825908/
END:VEVENT
BEGIN:VEVENT
UID:e5c6a6aef60f2468@ausschreibungsradar.com
DTSTAMP:20260424T133037Z
DTSTART;VALUE=DATE:20251223
DTEND;VALUE=DATE:20251223
SUMMARY:Ausschreibung — Kläranlage Brühl - Lieferung von Eisen-III-Chloridsulfad-Lös
DESCRIPTION:Phase: Ausschreibung | Beschreibung: Offizielle Ausschreibung mit Bieterfrist. | Link: https://ausschreibungsradar.com/ausschreibung/24825896/
URL:https://ausschreibungsradar.com/ausschreibung/24825896/
END:VEVENT
END:VCALENDAR
